Workbook
Name \a: #REF!
Name \a: #REF!
Name \a: #REF!
Name \b: [1]Sales!#REF!
Name \b: [1]Sales!#REF!
Name \e: [2]主管明細!#REF!
Name \e: [2]主管明細!#REF!
Name \i: [3]員工人數及給與計算表old!#REF!
Name \i: [3]員工人數及給與計算表old!#REF!
Name \l: #REF!
Name \l: #REF!
Name \l: #REF!
Name \m: [3]員工人數及給與計算表old!#REF!
Name \m: [3]員工人數及給與計算表old!#REF!
Name \P: #REF!
Name \P: #REF!
Name \P: #REF!
Name \P: #REF!
Name \q: #N/A
Name \s: [3]員工人數及給與計算表old!#REF!
Name \s: [3]員工人數及給與計算表old!#REF!
Name \t: #REF!
Name \w: #REF!
Name \w: #REF!
Name \z: #REF!
Name \Z: [4]業務費!#REF!
Name \Z: [5]業務費!#REF!
Name \Z: [5]業務費!#REF!
Name _1a01_: #REF!
Name _2G: #REF!
Name _2G: #REF!
Name _2G: #REF!
Name _3G: #REF!
Name _3G: #REF!
Name _3G: #REF!
Name _3GS: #REF!
Name _3GS: #REF!
Name _3GS: #REF!
Name _4a04_: #REF!
Name _8G: #REF!
Name _8G: #REF!
Name _8G: #REF!
Name _a: #REF!
Name _a: #REF!
Name _b: #REF!
Name _b: #REF!
Name _oil1: #REF!
Name _oil1: #REF!
Name _oil2: #REF!
Name _oil2: #REF!
Name A: #REF!
Name A: #REF!
Name A: #REF!
Name A: #REF!
Name A_\BP7082.BB: #REF!
Name A_\BR7082.AA: #N/A
Name A_\MP\BA8081.JJ: #REF!
Name A__MP_BA8081.JJ: #REF!
Name A_BR8203.JJ: #REF!
Name A_BR8203.JK: #REF!

Sheet 遞送單
A1: 行政院農業委員會農業特別收入基金
A2: 會 計 報 告 遞 送 單
A4: 106農會室字第090號
A5: 一、行 政 院 主 計 總 處 會 計 決 算 處
A6: 二、行 政 院 主 計 總 處 基 金 預 算 處
A7: 送 三、行 政 院 主 計 總 處 綜 合 統 計 處
A8: 四、審 計 部 教 育 農 林 審 計 處
A9: 五、財 政 部 (電子傳送)
A11: 106年度6月份農業特別收入基金會計報告1份
A14: 經辦人 科長 主辦會計 機關長官
A17: 中 華 民 國 106 年 7 月 日
A27: 行政院農業委員會農業特別收入基金
A28: 會 計 報 告 遞 送 單
A30: =A4 -> 106農會室字第090號
A31: 茲 送
A33: 106年度6月份農業特別收入基金會計報告1份
A35: 此 致
A37: 行 政 院 主 計 總 處 會 計 決 算 處
A40: 主辦會計 機關長官
A43: 中 華 民 國 106 年 7 月 日
A46: 行政院農業委員會農業特別收入基金
A47: 會 計 報 告 遞 送 單
A49: =A4 -> 106農會室字第090號
A50: 茲 送
A52: 106年度6月份農業特別收入基金會計報告1份
A54: 此 致
A56: 行 政 院 主 計 總 處 基 金 預 算 處
A59: 主辦會計 機關長官
A62: 中 華 民 國 106 年 7 月 日
A72: 行政院農業委員會農業特別收入基金
A73: 會 計 報 告 遞 送 單
A75: =A4 -> 106農會室字第090號
A76: 茲 送
A78: 106年度6月份農業特別收入基金會計報告1份
A80: 此 致
A82: 行 政 院 主 計 總 處 綜 合 統 計 處
A85: 主辦會計 機關長官
A88: 中 華 民 國 106 年 7 月 日
A91: 行政院農業委員會農業特別收入基金
A92: 會 計 報 告 遞 送 單
...

Sheet 審計處(不用印)
A3: 行政院農業委員會農業特別收入基金
A4: 會 計 報 告 遞 送 單
A6: =遞送單!A4 -> 106農會室字第090號
A7: 茲 送
A9: =遞送單!A8 -> 四、審 計 部 教 育 農 林 審 計 處
A11: 此 致
A13: 審 計 部 教 育 農 林 審 計 處
A18: 主辦會計 機關長官
A22: =遞送單!A17 -> 中 華 民 國 106 年 7 月 日

Sheet 編表步驟
A1: ＊編表步驟
A2: 一、更改封面及各表月份日期
A3: 二、載入截至上月實際數及預算數
B4: 1 | C4: 「來源餘絀表」累計實際數及預算數copy至上月累計實際及預算數(值)
B5: 2 | C5: 主要業務表累計金額、數量copy至上月累計金額、數量(底有顏色)(值)
B6: 3 | C6: 「累計實際」copy到「上月實際」(值)整張表copy
B7: 4 | C7: 「累計預算」copy到「上月預算」(值)整張表copy
A8: 三、鍵入當月分執行數及預算數
B9: 1 | C9: 餘絀表(實際數)上月本期餘絀copy至底下之上月份(值)
C10: 餘絀表(預算數)上月本期餘絀copy至底下之上月份(值)
C11: 「餘絀表(實際數)(預算數)」輸入各分基金資料-(餘絀表本月發生數、本月預算數)
C12: 核對收支估計分配表
B13: 2 | C13: 「各-平衡表」輸入各基金數字
B14: 3 | C14: 「主要業務」輸入各基金本月數
B15: 4 | C15: 「固定項目表」輸入各基金截至本月增加數及減少數
B16: 5 | C16: 「購建固定資產」輸入各基金實際執行數及累計預算分配數，並核對預算分配數
B17: 6 | C17: 核對各表-如本期及累計餘絀
A18: 四、寫差異原因
B19: 1 | C19: 增減說明
A20: ＊傳送月報
A21: 一、 | B21: 上傳:每月8日前鍵入「來源餘絀表」、「平衡表」、「購建固定資產」到全國主計網
C22: 新系統:資訊相關服務-->主計資訊管理系統-->會計月報-->機關作業-->政事型基金
C23: 表/當月份/查詢(帶出預算數)/再輸入資料 注意：平衡表備抵科目輸入正數(非以負數表達)，部分資料可先存檔
C24: ＊ 一月份登打資料要勾選「全部顯示」後再查詢,以免無法輸入。
C25: 主計處:「來源餘絀表」、「平衡表」、「固定資產購建」、「說明」 M 給主計總處潘霞翠 [evelyn83@dgbas.gov.tw](2380-3718) 副本給徐璧玲【bye@dgbas.gov.tw】(2380-3715)
C26: 審計處:「月報」(不需要資料要刪除)完成後 (含「來源餘絀表」、「平衡表」、「固定資產購建」、「說明」
C27: 、「主要業務」、「固定資產增減」 M給鄭審計(ytcheng@mail.audit.gov.tw )( 04-23013518#542 )、洪審計caroline@mail.audit.gov.tw
C28: 審計部：上傳DGA後產生之「餘絀表」(用範本下載EXECL檔)，M給審計部蘇裕均先生信箱：aca@mail.audit.gov.tw。
C29: 財政部：無需送紙本，各分基金自行將掃描檔M給 dnt3@mail.nta.gov.tw，含「封面-要核章」 「來源餘絀表」、「平衡表」
C30: 「固定資產購建」、「說明」、「主要業務」、「固定資產增減」
A31: 二、 | B31: 書面:紙本每月12日前以遞送單送出(送出4份，自留1份，送稽核科公告1份，合共6份)

Sheet 1封面
A1: 行 政 院 農 業 委 員 會
A3: 農 業 特 別 收 入 基 金
A5: 會 計 月 報
A7: 中 華 民 國 106 年 6 月份
A10: 主辦會計人員 基金主持人

Sheet 目次
A1: 目 次
A4: 基 金 來 源 、 用 途 及 餘 絀 表 | F4: ‧‧‧‧‧‧‧‧‧‧‧‧‧‧‧‧‧‧‧‧‧‧‧‧‧‧‧‧‧‧‧ | M4: 第 1-2 頁
A5: 餘 絀 增 減 說 明 | F5: ‧‧‧‧‧‧‧‧‧‧‧‧‧‧‧‧‧‧‧‧‧‧‧‧‧‧‧‧‧‧‧ | M5: 第 3-4 頁
A6: 平 衡 表 | F6: ‧‧‧‧‧‧‧‧‧‧‧‧‧‧‧‧‧‧‧‧‧‧‧‧‧‧‧‧‧‧‧ | M6: 第 5-6 頁
A7: 主 要 業 務 計 畫 執 行 明 細 表 | F7: ‧‧‧‧‧‧‧‧‧‧‧‧‧‧‧‧‧‧‧‧‧‧‧‧‧‧‧‧‧‧‧ | M7: 第 7-8 頁
A8: 固 定 項 目 增 減 情 形 表 | F8: ‧‧‧‧‧‧‧‧‧‧‧‧‧‧‧‧‧‧‧‧‧‧‧‧‧‧‧‧‧‧‧ | M8: 第 9 頁
A9: 購建固定資產執行情形明細表 | F9: ‧‧‧‧‧‧‧‧‧‧‧‧‧‧‧‧‧‧‧‧‧‧‧‧‧‧‧‧‧‧‧ | M9: 第 10 頁

Sheet 來源餘絀表
A1: 將k及L值複製至O及P.
A2: 農 業 特 別 收 入 基 金
A3: 基金來源、用途及餘絀表
A4: 中 華 民 國 106年 6 月份
K5: 單位：新臺幣元
A6: 項 目 | B6: 本年度法定預算數 | C6: 本 月 份 | G6: 本 年 度 截 至 本 月 份 累 計 數 | L6: 本 年 度 截 至 上 月 累 計 數
E7: 比較增減（－） | I7: 比較增減（－） | L7: 2-12月才須複製(貼上「值」)，1月份不貼
C8: 實際數 | D8: 預算數 | G8: 實際數 | H8: 預算數
E9: 金 額 | F9: % | I9: 金 額 | K9: % | L9: 上月累計實際數 | M9: 上月累計預算數
A10: 基金來源 | B10: =B11+B14+B17+B19+B24+B26 -> 45821801000 | C10: =C11+C14+C17+C19+C24+C26 -> 6775174478 | D10: =D11+D14+D17+D19+D24+D26 -> 6292591000 | E10: =C10-D10 -> 482583478 | F10: =IF(D10=0,0,IF(E10<0,(E10/D10)*-100,(E10/D10)*100)) -> 7.67 | G10: =C10+L10 -> 19898358577 | H10: =D10+M10 -> 20115311000 | I10: =G10-H10 -> -216952423 | J10: 5901065615 | K10: =IF(H10=0,0,IF(I10<0,(I10/H10)*-100,(I10/H10)*100)) -> 1.08 | L10: 13123184099 | M10: 13822720000
A11: 徵收及依法分配收入 | B11: =B12+B13 -> 1053000 | C11: =C12+C13 -> 99446 | D11: =D12+D13 -> 563000 | E11: =C11-D11 -> -463554 | F11: =IF(D11=0,0,IF(E11<0,(E11/D11)*-100,(E11/D11)*100)) -> 82.34 | G11: =C11+L11 -> 1801373 | H11: =D11+M11 -> 615000 | I11: =G11-H11 -> 1186373 | J11: 5034118 | K11: =IF(H11=0,0,IF(I11<0,(I11/H11)*-100,(I11/H11)*100)) -> 192.91 | L11: 1701927 | M11: 52000
A12: 違規罰款收入 | B12: 1053000 | C12: ='餘絀表(實際數)'!I12 -> 99446 | D12: ='餘絀表(預算數)'!I12 -> 563000 | E12: =C12-D12 -> -463554 | F12: =IF(D12=0,0,IF(E12<0,(E12/D12)*-100,(E12/D12)*100)) -> 82.34 | G12: =C12+L12 -> 1801373 | H12: =D12+M12 -> 615000 | I12: =G12-H12 -> 1186373 | J12: 5034118 | K12: =IF(H12=0,0,IF(I12<0,(I12/H12)*-100,(I12/H12)*100)) -> 192.91 | L12: 1701927 | M12: 52000
A13: 健康福利捐分配收入 | B13: 0 | C13: ='餘絀表(實際數)'!I13 -> 0 | D13: ='餘絀表(預算數)'!I13 -> 0 | E13: =C13-D13 -> 0 | F13: =IF(D13=0,0,IF(E13<0,(E13/D13)*-100,(E13/D13)*100)) -> 0 | G13: =C13+L13 -> 0 | H13: =D13+M13 -> 0 | I13: =G13-H13 -> 0 | K13: =IF(H13=0,0,IF(I13<0,(I13/H13)*-100,(I13/H13)*100)) -> 0 | L13: 0 | M13: 0
A14: 勞務收入 | B14: =SUM(B15:B16) -> 829449000 | C14: =SUM(C15:C16) -> 55451739 | D14: =SUM(D15:D16) -> 56124000 | E14: =C14-D14 -> -672261 | F14: =IF(D14=0,0,IF(E14<0,(E14/D14)*-100,(E14/D14)*100)) -> 1.2 | G14: =C14+L14 -> 388274132 | H14: =D14+M14 -> 388922000 | I14: =G14-H14 -> -647868 | J14: -60809086 | K14: =IF(H14=0,0,IF(I14<0,(I14/H14)*-100,(I14/H14)*100)) -> 0.17 | L14: 332822393 | M14: 332798000
A15: 服務收入 | B15: 686299000 | C15: ='餘絀表(實際數)'!I15 -> 42998499 | D15: ='餘絀表(預算數)'!I15 -> 44078000 | E15: =C15-D15 -> -1079501 | F15: =IF(D15=0,0,IF(E15<0,(E15/D15)*-100,(E15/D15)*100)) -> 2.45 | G15: =C15+L15 -> 308258244 | H15: =D15+M15 -> 321896000 | I15: =G15-H15 -> -13637756 | J15: -51095875 | K15: =IF(H15=0,0,IF(I15<0,(I15/H15)*-100,(I15/H15)*100)) -> 4.24 | L15: 265259745 | M15: 277818000
A16: 其他勞務收入 | B16: 143150000 | C16: ='餘絀表(實際數)'!I16 -> 12453240 | D16: ='餘絀表(預算數)'!I16 -> 12046000 | E16: =C16-D16 -> 407240 | F16: =IF(D16=0,0,IF(E16<0,(E16/D16)*-100,(E16/D16)*100)) -> 3.38 | G16: =C16+L16 -> 80015888 | H16: =D16+M16 -> 67026000 | I16: =G16-H16 -> 12989888 | J16: -9713211 | K16: =IF(H16=0,0,IF(I16<0,(I16/H16)*-100,(I16/H16)*100)) -> 19.38 | L16: 67562648 | M16: 54980000
A17: 農政收入 | B17: =B18 -> 6778349000 | C17: =C18 -> 281713189 | D17: =D18 -> 276150000 | E17: =C17-D17 -> 5563189 | F17: =IF(D17=0,0,IF(E17<0,(E17/D17)*-100,(E17/D17)*100)) -> 2.01 | G17: =C17+L17 -> 2060996591 | H17: =D17+M17 -> 2501473000 | I17: =G17-H17 -> -440476409 | J17: 1463062304 | K17: =IF(H17=0,0,IF(I17<0,(I17/H17)*-100,(I17/H17)*100)) -> 17.61 | L17: 1779283402 | M17: 2225323000
A18: 農林漁牧收入 | B18: 6778349000 | C18: ='餘絀表(實際數)'!I18 -> 281713189 | D18: ='餘絀表(預算數)'!I18 -> 276150000 | E18: =C18-D18 -> 5563189 | F18: =IF(D18=0,0,IF(E18<0,(E18/D18)*-100,(E18/D18)*100)) -> 2.01 | G18: =C18+L18 -> 2060996591 | H18: =D18+M18 -> 2501473000 | I18: =G18-H18 -> -440476409 | J18: 1463062304 | K18: =IF(H18=0,0,IF(I18<0,(I18/H18)*-100,(I18/H18)*100)) -> 17.61 | L18: 1779283402 | M18: 2225323000
A19: 財產收入 | B19: =SUM(B20:B23) -> 898952000 | C19: =SUM(C20:C23) -> 15154232 | D19: =SUM(D20:D23) -> 9133000 | E19: =C19-D19 -> 6021232 | F19: =IF(D19=0,0,IF(E19<0,(E19/D19)*-100,(E19/D19)*100)) -> 65.93 | G19: =C19+L19 -> 625424680 | H19: =D19+M19 -> 380991000 | I19: =G19-H19 -> 244433680 | J19: -188350703 | K19: =IF(H19=0,0,IF(I19<0,(I19/H19)*-100,(I19/H19)*100)) -> 64.16 | L19: 610270448 | M19: 371858000
A20: 財產處分收入 | B20: 0 | C20: ='餘絀表(實際數)'!I20 -> 7194 | D20: ='餘絀表(預算數)'!I20 -> 0 | E20: =C20-D20 -> 7194 | F20: =IF(D20=0,0,IF(E20<0,(E20/D20)*-100,(E20/D20)*100)) -> 0 | G20: =C20+L20 -> 7194 | H20: =D20+M20 -> 0 | I20: =G20-H20 -> 7194 | J20: 10369 | K20: =IF(H20=0,0,IF(I20<0,(I20/H20)*-100,(I20/H20)*100)) -> 0 | L20: 0 | M20: 0
A21: 租金收入 | B21: 4874000 | C21: ='餘絀表(實際數)'!I21 -> 390476 | D21: ='餘絀表(預算數)'!I21 -> 0 | E21: =C21-D21 -> 390476 | F21: =IF(D21=0,0,IF(E21<0,(E21/D21)*-100,(E21/D21)*100)) -> 0 | G21: =C21+L21 -> 3818532 | H21: =D21+M21 -> 3160000 | I21: =G21-H21 -> 658532 | J21: -4130351 | K21: =IF(H21=0,0,IF(I21<0,(I21/H21)*-100,(I21/H21)*100)) -> 20.84 | L21: 3428056 | M21: 3160000
A22: 權利金收入 | B22: 727689000 | C22: ='餘絀表(實際數)'!I22 -> 1712303 | D22: ='餘絀表(預算數)'!I22 -> 170000 | E22: =C22-D22 -> 1542303 | F22: =IF(D22=0,0,IF(E22<0,(E22/D22)*-100,(E22/D22)*100)) -> 907.24 | G22: =C22+L22 -> 607039147 | H22: =D22+M22 -> 368346000 | I22: =G22-H22 -> 238693147 | J22: -293748505 | K22: =IF(H22=0,0,IF(I22<0,(I22/H22)*-100,(I22/H22)*100)) -> 64.8 | L22: 605326844 | M22: 368176000
A23: 利息收入 | B23: 166389000 | C23: ='餘絀表(實際數)'!I23 -> 13044259 | D23: ='餘絀表(預算數)'!I23 -> 8963000 | E23: =C23-D23 -> 4081259 | F23: =IF(D23=0,0,IF(E23<0,(E23/D23)*-100,(E23/D23)*100)) -> 45.53 | G23: =C23+L23 -> 14559807 | H23: =D23+M23 -> 9485000 | I23: =G23-H23 -> 5074807 | J23: 109517784 | K23: =IF(H23=0,0,IF(I23<0,(I23/H23)*-100,(I23/H23)*100)) -> 53.5 | L23: 1515548 | M23: 522000
A24: 政府撥入收入 | B24: =B25 -> 36762661000 | C24: =C25 -> 6549000000 | D24: =D25 -> 5949000000 | E24: =C24-D24 -> 600000000 | F24: =IF(D24=0,0,IF(E24<0,(E24/D24)*-100,(E24/D24)*100)) -> 10.09 | G24: =C24+L24 -> 16408000000 | H24: =D24+M24 -> 16618101000 | I24: =G24-H24 -> -210101000 | J24: 4095400000 | K24: =IF(H24=0,0,IF(I24<0,(I24/H24)*-100,(I24/H24)*100)) -> 1.26 | L24: 9859000000 | M24: 10669101000
A25: 國庫撥款收入 | B25: 36762661000 | C25: ='餘絀表(實際數)'!I25 -> 6549000000 | D25: ='餘絀表(預算數)'!I25 -> 5949000000 | E25: =C25-D25 -> 600000000 | F25: =IF(D25=0,0,IF(E25<0,(E25/D25)*-100,(E25/D25)*100)) -> 10.09 | G25: =C25+L25 -> 16408000000 | H25: =D25+M25 -> 16618101000 | I25: =G25-H25 -> -210101000 | J25: 4095400000 | K25: =IF(H25=0,0,IF(I25<0,(I25/H25)*-100,(I25/H25)*100)) -> 1.26 | L25: 9859000000 | M25: 10669101000
A26: 其他收入 | B26: =SUM(B27:B28) -> 551337000 | C26: =SUM(C27:C28) -> -126244128 | D26: =SUM(D27:D28) -> 1621000 | E26: =C26-D26 -> -127865128 | F26: =IF(D26=0,0,IF(E26<0,(E26/D26)*-100,(E26/D26)*100)) -> 7888.04 | G26: =SUM(G27:G28) -> 413861801 | H26: =SUM(H27:H28) -> 225209000 | I26: =G26-H26 -> 188652801 | J26: 586728982 | K26: =IF(H26=0,0,IF(I26<0,(I26/H26)*-100,(I26/H26)*100)) -> 83.77 | L26: 540105929 | M26: 223588000
A27: 雜項收入 | B27: 551337000 | C27: ='餘絀表(實際數)'!I27 -> -126244128 | D27: ='餘絀表(預算數)'!I27 -> 1621000 | E27: =C27-D27 -> -127865128 | F27: =IF(D27=0,0,IF(E27<0,(E27/D27)*-100,(E27/D27)*100)) -> 7888.04 | G27: =C27+L27 -> 413861801 | H27: =D27+M27 -> 225209000 | I27: =G27-H27 -> 188652801 | J27: 586728982 | K27: =IF(H27=0,0,IF(I27<0,(I27/H27)*-100,(I27/H27)*100)) -> 83.77 | L27: 540105929 | M27: 223588000
A28: 收回金融業特別準備 | B28: 0 | C28: ='餘絀表(實際數)'!I28 -> 0 | D28: ='餘絀表(預算數)'!I28 -> 0 | E28: =C28-D28 -> 0 | F28: =IF(D28=0,0,IF(E28<0,(E28/D28)*-100,(E28/D28)*100)) -> 0 | G28: =C28+L28 -> 0 | H28: =D28+M28 -> 0 | I28: =G28-H28 -> 0 | J28: 586728983 | K28: =IF(H28=0,0,IF(I28<0,(I28/H28)*-100,(I28/H28)*100)) -> 0 | L28: 0 | M28: 0
A29: 基金用途 | B29: =SUM(B30:B65)-B31-B32-B35-B36-B47-B48-B60-B61-B63-B64 -> 40225698000 | C29: =SUM(C30:C65)-C31-C32-C35-C36-C47-C48-C60-C61-C63-C64 -> 3581689538 | D29: =SUM(D30:D65)-D31-D32-D35-D36-D47-D48-D60-D61-D63-D64 -> 3368100000 | E29: =C29-D29 -> 213589538 | F29: =IF(D29=0,0,IF(E29<0,(E29/D29)*-100,(E29/D29)*100)) -> 6.34 | G29: =SUM(G30:G65)-G31-G32-G35-G36-G47-G48-G60-G61-G63-G64 -> 13385257885 | H29: =SUM(H30:H65)-H31-H32-H35-H36-H47-H48-H60-H61-H63-H64 -> 14276622000 | I29: =G29-H29 -> -891364115 | J29: =SUM(J31:J34)+SUM(J37:J40)+SUM(J41:J41)+SUM(J45:J46)+SUM(J49:J53)+J54+J50+J55+SUM(J56:J65) -> 4656634119 | K29: =IF(H29=0,0,IF(I29<0,(I29/H29)*-100,(I29/H29)*100)) -> 6.24 | L29: 9803568347 | M29: 10908522000
A30: 農業研究、實驗、技術 改進計畫 | B30: =B31+B32 -> 12442000 | C30: =SUM(C31:C32) -> 1535753 | D30: =SUM(D31:D32) -> 1669000 | E30: =C30-D30 -> -133247 | F30: =IF(D30=0,0,IF(E30<0,(E30/D30)*-100,(E30/D30)*100)) -> 7.98 | G30: =C30+L30 -> 5617028 | H30: =D30+M30 -> 5827000 | I30: =G30-H30 -> -209972 | J30: 0 | K30: =IF(H30=0,0,IF(I30<0,(I30/H30)*-100,(I30/H30)*100)) -> 3.6 | L30: 4081275 | M30: 4158000
A31: 購建固定資產 | B31: 2525000 | C31: ='餘絀表(實際數)'!I31 -> 703000 | D31: ='餘絀表(預算數)'!I31 -> 885000 | E31: =C31-D31 -> -182000 | F31: =IF(D31=0,0,IF(E31<0,(E31/D31)*-100,(E31/D31)*100)) -> 20.56 | G31: =C31+L31 -> 703000 | H31: =D31+M31 -> 885000 | I31: =G31-H31 -> -182000 | J31: 0 | K31: =IF(H31=0,0,IF(I31<0,(I31/H31)*-100,(I31/H31)*100)) -> 20.56 | L31: 0 | M31: 0
A32: 其他 | B32: 9917000 | C32: ='餘絀表(實際數)'!I32 -> 832753 | D32: ='餘絀表(預算數)'!I32 -> 784000 | E32: =C32-D32 -> 48753 | F32: =IF(D32=0,0,IF(E32<0,(E32/D32)*-100,(E32/D32)*100)) -> 6.22 | G32: =C32+L32 -> 4914028 | H32: =D32+M32 -> 4942000 | I32: =G32-H32 -> -27972 | J32: 0 | K32: =IF(H32=0,0,IF(I32<0,(I32/H32)*-100,(I32/H32)*100)) -> 0.57 | L32: 4081275 | M32: 4158000
A33: 農業貸款利息差額補貼 計畫 | B33: 2638241000 | C33: ='餘絀表(實際數)'!I33 -> 964611075 | D33: ='餘絀表(預算數)'!I33 -> 1319120000 | E33: =C33-D33 -> -354508925 | F33: =IF(D33=0,0,IF(E33<0,(E33/D33)*-100,(E33/D33)*100)) -> 26.87 | G33: =C33+L33 -> 964611075 | H33: =D33+M33 -> 1319120000 | I33: =G33-H33 -> -354508925 | J33: 0 | K33: =IF(H33=0,0,IF(I33<0,(I33/H33)*-100,(I33/H33)*100)) -> 26.87 | L33: 0 | M33: 0
A34: 糧政業務計畫 | B34: =B35+B36 -> 13356405000 | C34: =SUM(C35:C36) -> 1060833321 | D34: =SUM(D35:D36) -> 955666000 | E34: =C34-D34 -> 105167321 | F34: =IF(D34=0,0,IF(E34<0,(E34/D34)*-100,(E34/D34)*100)) -> 11 | G34: =C34+L34 -> 5442465595 | H34: =D34+M34 -> 5886740000 | I34: =G34-H34 -> -444274405 | J34: 0 | K34: =IF(H34=0,0,IF(I34<0,(I34/H34)*-100,(I34/H34)*100)) -> 7.55 | L34: 4381632274 | M34: 4931074000
A35: 購建固定資產 | B35: 9116000 | C35: ='餘絀表(實際數)'!I35 -> 30975 | D35: ='餘絀表(預算數)'!I35 -> 60000 | E35: =C35-D35 -> -29025 | F35: =IF(D35=0,0,IF(E35<0,(E35/D35)*-100,(E35/D35)*100)) -> 48.38 | G35: =C35+L35 -> 90300 | H35: =D35+M35 -> 110000 | I35: =G35-H35 -> -19700 | J35: 0 | K35: =IF(H35=0,0,IF(I35<0,(I35/H35)*-100,(I35/H35)*100)) -> 17.91 | L35: 59325 | M35: 50000
A36: 其他 | B36: 13347289000 | C36: ='餘絀表(實際數)'!I36 -> 1060802346 | D36: ='餘絀表(預算數)'!I36 -> 955606000 | E36: =C36-D36 -> 105196346 | F36: =IF(D36=0,0,IF(E36<0,(E36/D36)*-100,(E36/D36)*100)) -> 11.01 | G36: =C36+L36 -> 5442375295 | H36: =D36+M36 -> 5886630000 | I36: =G36-H36 -> -444254705 | J36: 0 | K36: =IF(H36=0,0,IF(I36<0,(I36/H36)*-100,(I36/H36)*100)) -> 7.55 | L36: 4381572949 | M36: 4931024000
A37: 穩定肥料及相關資材供需計畫 | B37: 1824375000 | C37: ='餘絀表(實際數)'!I37 -> 907173 | D37: ='餘絀表(預算數)'!I37 -> 106000000 | E37: =C37-D37 -> -105092827 | F37: =IF(D37=0,0,IF(E37<0,(E37/D37)*-100,(E37/D37)*100)) -> 99.14 | G37: =C37+L37 -> 26425716 | H37: =D37+M37 -> 610532000 | I37: =G37-H37 -> -584106284 | J37: 1922875989 | K37: =IF(H37=0,0,IF(I37<0,(I37/H37)*-100,(I37/H37)*100)) -> 95.67 | L37: 25518543 | M37: 504532000
A38: 產銷調節緊急處理計畫 | B38: 158755000 | C38: ='餘絀表(實際數)'!I38 -> 80221514 | D38: ='餘絀表(預算數)'!I38 -> 5000000 | E38: =C38-D38 -> 75221514 | F38: =IF(D38=0,0,IF(E38<0,(E38/D38)*-100,(E38/D38)*100)) -> 1504.43 | G38: =C38+L38 -> 151785514 | H38: =D38+M38 -> 90000000 | I38: =G38-H38 -> 61785514 | J38: 215713411 | K38: =IF(H38=0,0,IF(I38<0,(I38/H38)*-100,(I38/H38)*100)) -> 68.65 | L38: 71564000 | M38: 85000000
A39: 農漁民子女就學獎助學金 計畫 | B39: 1100372000 | C39: ='餘絀表(實際數)'!I39 -> 1860000 | D39: ='餘絀表(預算數)'!I39 -> 0 | E39: =C39-D39 -> 1860000 | F39: =IF(D39=0,0,IF(E39<0,(E39/D39)*-100,(E39/D39)*100)) -> 0 | G39: =C39+L39 -> 514095547 | H39: =D39+M39 -> 550544000 | I39: =G39-H39 -> -36448453 | J39: 0 | K39: =IF(H39=0,0,IF(I39<0,(I39/H39)*-100,(I39/H39)*100)) -> 6.62 | L39: 512235547 | M39: 550544000
A40: 豬隻死亡保險業務計畫 | B40: 230000000 | C40: ='餘絀表(實際數)'!I40 -> 110000000 | D40: ='餘絀表(預算數)'!I40 -> 85000000 | E40: =C40-D40 -> 25000000 | F40: =IF(D40=0,0,IF(E40<0,(E40/D40)*-100,(E40/D40)*100)) -> 29.41 | G40: =C40+L40 -> 140000000 | H40: =D40+M40 -> 109600000 | I40: =G40-H40 -> 30400000 | J40: 7590000 | K40: =IF(H40=0,0,IF(I40<0,(I40/H40)*-100,(I40/H40)*100)) -> 27.74 | L40: 30000000 | M40: 24600000
...

Sheet 增減說明
A1: 農 業 特 別 收 入 基 金
A2: 餘 絀 增 減 說 明
A3: 中 華 民 國 106年 6 月份
A5: 科目 | B5: 本月份 增減說明 | C5: 本年度截至本月份累計數 增減說明
A8: 基金來源
A9: 徵收及依法分配收入
A10: 違規罰款收入 | B10: 收取違反森林法之罰鍰收入低於預期所致。 | C10: 收取違反森林法之罰鍰收入高於預期所致。
A11: 健康福利捐分配收入
A12: 勞務收入
A13: 服務收入
A14: 其他勞務收入
A15: 農政收入
A16: 農林漁牧收入
A17: 財產收入
A18: 財產處分收入 | B18: 標售廢品收入。 | C18: 同左。
A19: 租金收入 | B19: 主要係收取合歡山販賣部租金所致。 | C19: 主要係收取合歡山販賣部及阿里山森林鐵路部分車站空間租金所致。
A20: 權利金收入 | B20: 主要係收取合歡山販賣部委外經營權利金所致。 | C20: 主要係臺灣銀行繳交之關稅配額進口權利金收入較預期增加所致。
A21: 利息收入 | B21: 專戶存款利息收入較預計增加所致。 | C21: 同左。
A22: 政府撥入收入
A23: 國庫撥款收入
A24: 其他收入
A25: 雜項收入 | B25: 主要係收回以前年度補助計畫賸餘款、衍生性收入及山坡地開發利用回饋金所致。 | C25: 同左。
A26: 收回金融業特別準備
A27: 基金用途
A28: 農業研究、實驗、技術改進 計畫 | D28: 專案農貸額度需求低於預期，且部分借款人還款能力良好，已陸續攤還本金，致實際經費較預計減少。 | E28: 專案農貸額度需求低於預期，且部分借款人還款能力良好，已陸續攤還本金，致實際經費較預計減少。 | F28: 專案農貸額度需求低於預期，且部分借款人還款能力良好，已陸續攤還本金，致實際經費較預計減少。
A29: 毛豬產銷調節 | C29: 同左。
A30: 農業貸款利息差額補貼 計畫 | B30: 專案農貸額度需求低於預期，且部分借款人還款能力良好，已陸續攤還本金，致實際經費較預計減少。 | C30: 同左。
A31: 糧政業務計畫
A32: 穩定肥料及相關資材供需計畫 | B32: 計畫執行經費刻正進行勾稽與彙整，將於7月儘速辦理撥付。 | C32: 同左。
A33: 產銷調節緊急處理計畫 | B33: 辦理土雞及臺灣鯛產銷調節緊急處理所致。 | C33: 同左。
A34: 農漁民子女就學獎助學金計畫 | B34: 係撥付農漁民子女就學獎助學金補正款。
A35: 豬隻死亡保險業務計畫 | B35: 係撥付中華民國農會計畫補助經費。 | C35: 同左。
A36: 家禽流行性感冒防疫計畫 | B36: 本月份實際執行數較預計增加。 | C36: 為因應本年亞型高病原性禽流感疫情，短期內須地毯式檢視轄內禽場，並啟動上市屠宰鴨隻須檢附禽流感檢測報告等措施，爰提前支用下期分配數以利執行。
A37: 輔導菸農轉型與檳榔廢園轉作計畫 | B37: 本月份實際執行數較預計減少。
A38: 處理農會漁會信用部計畫 | B38: 原列入處理之經營不善農、漁會信用部，因經營狀況改善，暫緩處理。 | C38: 同左。
A39: 離農獎勵計畫 | B39: 係辦理離農獎勵補發案件所致。 | C39: 同左。
A40: 全民造林計畫 | B40: 部分計畫尚未核定，致執行數未如預期。 | C40: 同左。
A41: 森林遊樂及森林鐵路經營管 理計畫
A42: 獎勵輔導造林計畫 | B42: 計劃書業已全數核定完成，部分執行單位尚未請撥第一期款，致執行數未如預期。 | C42: 同左。
A43: 造林貸款及山坡地開發利用 回饋金繳交管理計畫 | B43: 計劃書業已全數核定完成，部分執行單位尚未請撥第二期款，致執行數未如預期。
...

Sheet 餘絀表(實際數)
A1: 將k及L值複製至O及P.
A2: 農 業 特 別 收 入 基 金
A3: 將b64值複製至上月份本期餘絀 | B3: 「累計實際」複製至「上月實際」
A5: 102.10.3
A6: 輸入本月數實際數
A7: 分基金名稱 會計科目 | B7: 農業發展 基 金 | C7: 漁業發展 基 金 | D7: 林務發展暨 造林基金 | E7: 漁產平準 基 金 | F7: 農業天然災 害救助基金 | G7: 農業受進口損害 基 金 | H7: 農村再生基金 | I7: 合 計
J8: 與來源餘絀表核對
A10: 基金來源 | B10: =B11+B14+B17+B19+B24+B26 -> 4050102539 | C10: =C11+C14+C17+C19+C24+C26 -> 15074 | D10: =D11+D14+D17+D19+D24+D26 -> 11686147 | E10: =E11+E14+E17+E19+E24+E26 -> 0 | F10: =F11+F14+F17+F19+F24+F26 -> 600136533 | G10: =G11+G14+G17+G19+G24+G26 -> 470653020 | H10: =H11+H14+H17+H19+H24+H26 -> 1642581165 | I10: =SUM(B10:H10) -> 6775174478 | J10: =J11+J14+J17+J19+J24+J26 -> 6775174478 | K10: =I10-J10 -> 0
A11: 徵收及依法分配收入 | B11: =B12+B13 -> 0 | C11: =C12 -> 0 | D11: =D12 -> 99446 | E11: =E12 -> 0 | F11: =F12 -> 0 | G11: =G12+G13 -> 0 | H11: =H12+H13 -> 0 | I11: =SUM(B11:H11) -> 99446 | J11: =來源餘絀表!C11 -> 99446 | K11: =I11-J11 -> 0
A12: 違規罰款收入 | D12: 99446 | I12: =SUM(B12:H12) -> 99446 | J12: =來源餘絀表!C12 -> 99446 | K12: =I12-J12 -> 0
A13: 健康福利捐分配收入 | B13: 0 | I13: =SUM(B13:H13) -> 0 | J13: =來源餘絀表!C13 -> 0 | K13: =I13-J13 -> 0
A14: 勞務收入 | B14: =SUM(B15:B16) -> 0 | C14: =SUM(C15:C16) -> 0 | D14: =SUM(D15:D16) -> 55451739 | E14: =SUM(E15:E16) -> 0 | F14: =SUM(F15:F16) -> 0 | G14: =SUM(G15:G16) -> 0 | H14: =SUM(H15:H16) -> 0 | I14: =SUM(B14:H14) -> 55451739 | J14: =來源餘絀表!C14 -> 55451739 | K14: =I14-J14 -> 0
A15: 服務收入 | D15: 42998499 | I15: =SUM(B15:H15) -> 42998499 | J15: =來源餘絀表!C15 -> 42998499 | K15: =I15-J15 -> 0
A16: 其他勞務收入 | D16: 12453240 | I16: =SUM(B16:H16) -> 12453240 | J16: =來源餘絀表!C16 -> 12453240 | K16: =I16-J16 -> 0
A17: 農政收入 | B17: =B18 -> 281713189 | C17: =C18 -> 0 | D17: =D18 -> 0 | E17: =E18 -> 0 | F17: =F18 -> 0 | G17: =G18 -> 0 | H17: =H18 -> 0 | I17: =SUM(B17:H17) -> 281713189 | J17: =來源餘絀表!C17 -> 281713189 | K17: =I17-J17 -> 0
A18: 農林漁牧收入 | B18: 281713189 | I18: =SUM(B18:H18) -> 281713189 | J18: =來源餘絀表!C18 -> 281713189 | K18: =I18-J18 -> 0
A19: 財產收入 | B19: =SUM(B20:B23) -> 2609412 | C19: =SUM(C20:C23) -> 15074 | D19: =SUM(D20:D23) -> 12375130 | E19: =SUM(E20:E23) -> 0 | F19: =SUM(F20:F23) -> 128283 | G19: =SUM(G20:G23) -> 1538 | H19: =SUM(H20:H23) -> 24795 | I19: =SUM(B19:H19) -> 15154232 | J19: =來源餘絀表!C19 -> 15154232 | K19: =I19-J19 -> 0
A20: 財產處分收入 | B20: 7194 | I20: =SUM(B20:H20) -> 7194 | J20: =來源餘絀表!C20 -> 7194 | K20: =I20-J20 -> 0
A21: 租金收入 | D21: 390476 | I21: =SUM(B21:H21) -> 390476 | J21: =來源餘絀表!C21 -> 390476 | K21: =I21-J21 -> 0
A22: 權利金收入 | D22: 1712303 | I22: =SUM(B22:H22) -> 1712303 | J22: =來源餘絀表!C22 -> 1712303 | K22: =I22-J22 -> 0
A23: 利息收入 | B23: 2602218 | C23: 15074 | D23: 10272351 | E23: 0 | F23: 128283 | G23: 1538 | H23: 24795 | I23: =SUM(B23:H23) -> 13044259 | J23: =來源餘絀表!C23 -> 13044259 | K23: =I23-J23 -> 0
A24: 政府撥入收入 | B24: =B25 -> 3797000000 | C24: =C25 -> 0 | D24: =D25 -> 0 | E24: =E25 -> 0 | F24: =F25 -> 600000000 | G24: =G25 -> 500000000 | H24: =H25 -> 1652000000 | I24: =SUM(B24:H24) -> 6549000000 | J24: =來源餘絀表!C24 -> 6549000000 | K24: =I24-J24 -> 0
A25: 國庫撥款收入 | B25: 3797000000 | F25: 600000000 | G25: 500000000 | H25: 1652000000 | I25: =SUM(B25:H25) -> 6549000000 | J25: =來源餘絀表!C25 -> 6549000000 | K25: =I25-J25 -> 0
A26: 其他收入 | B26: =SUM(B27:B28) -> -31220062 | C26: =SUM(C27:C28) -> 0 | D26: =SUM(D27:D28) -> -56240168 | E26: =SUM(E27:E28) -> 0 | F26: =SUM(F27:F28) -> 8250 | G26: =SUM(G27:G28) -> -29348518 | H26: =SUM(H27:H28) -> -9443630 | I26: =SUM(B26:H26) -> -126244128 | J26: =來源餘絀表!C26 -> -126244128 | K26: =I26-J26 -> 0
A27: 雜項收入 | B27: -31220062 | D27: -56240168 | F27: 8250 | G27: -29348518 | H27: -9443630 | I27: =SUM(B27:H27) -> -126244128 | J27: =來源餘絀表!C27 -> -126244128 | K27: =I27-J27 -> 0
A28: 收回金融業特別準備 | I28: =SUM(B28:H28) -> 0 | J28: =來源餘絀表!C28 -> 0 | K28: =I28-J28 -> 0
A29: 基金用途 | B29: =B30+B33+B34+B37+B38+B39+B40+B41+B42+B43+B44+B65 -> 2239108222 | C29: =C51 -> 4141238 | D29: =D45+D46+D49+D54 -> 122781373 | E29: =E54+E65 -> 0 | F29: =F50 -> 589670636 | G29: =G55+G56+G57+G58 -> 227174100 | H29: =H59+H62 -> 398813969 | I29: =SUM(B29:H29) -> 3581689538 | J29: =J30+J33+J34+J37+J38+J39+J40+J41+J42+J43+J44+J45+J46+J49+J50+J51+J52+J53+J54+J55+J56+J57+J59+J62+J65+J74 -> 3581689538 | K29: =I29-J29 -> 0
A30: 農業研究、實驗、技術 改進計畫 | B30: =SUM(B31:B32) -> 1535753 | C30: =SUM(C31:C32) -> 0 | D30: =SUM(D31:D32) -> 0 | E30: =SUM(E31:E32) -> 0 | F30: =SUM(F31:F32) -> 0 | G30: =SUM(G31:G32) -> 0 | H30: =SUM(H31:H32) -> 0 | I30: =SUM(B30:H30) -> 1535753 | J30: =來源餘絀表!C30 -> 1535753 | K30: =I30-J30 -> 0
A31: 購建固定資產 | B31: 703000 | I31: =SUM(B31:H31) -> 703000 | J31: =來源餘絀表!C31 -> 703000 | K31: =I31-J31 -> 0
A32: 其他 | B32: 832753 | I32: =SUM(B32:H32) -> 832753 | J32: =來源餘絀表!C32 -> 832753 | K32: =I32-J32 -> 0
A33: 農業貸款利息差額補貼 計畫 | B33: 964611075 | I33: =SUM(B33:H33) -> 964611075 | J33: =來源餘絀表!C33 -> 964611075 | K33: =I33-J33 -> 0
A34: 糧政業務計畫 | B34: =B36+B35 -> 1060833321 | C34: =SUM(C35:C36) -> 0 | D34: =SUM(D35:D36) -> 0 | E34: =SUM(E35:E36) -> 0 | F34: =SUM(F35:F36) -> 0 | G34: =SUM(G35:G36) -> 0 | I34: =SUM(B34:H34) -> 1060833321 | J34: =來源餘絀表!C34 -> 1060833321 | K34: =I34-J34 -> 0
A35: 購建固定資產 | B35: 30975 | I35: =SUM(B35:H35) -> 30975 | J35: =來源餘絀表!C35 -> 30975 | K35: =I35-J35 -> 0
A36: 其他 | B36: 1060802346 | I36: =SUM(B36:H36) -> 1060802346 | J36: =來源餘絀表!C36 -> 1060802346 | K36: =I36-J36 -> 0
A37: 穩定肥料及相關資材供需計畫 | B37: 907173 | I37: =SUM(B37:H37) -> 907173 | J37: =來源餘絀表!C37 -> 907173 | K37: =I37-J37 -> 0
A38: 產銷調節緊急處理計畫 | B38: 80221514 | I38: =SUM(B38:H38) -> 80221514 | J38: =來源餘絀表!C38 -> 80221514 | K38: =I38-J38 -> 0
A39: 農漁民子女就學獎助學 金補助計畫 | B39: 1860000 | I39: =SUM(B39:H39) -> 1860000 | J39: =來源餘絀表!C39 -> 1860000 | K39: =I39-J39 -> 0
A40: 豬隻死亡保險業務計畫 | B40: 110000000 | I40: =SUM(B40:H40) -> 110000000 | J40: =來源餘絀表!C40 -> 110000000 | K40: =I40-J40 -> 0
A41: 家禽流行性感冒防疫計畫 | B41: 10567000 | I41: =SUM(B41:H41) -> 10567000 | J41: =來源餘絀表!C41 -> 10567000 | K41: =I41-J41 -> 0
A42: 輔導菸農轉型與檳榔廢 園轉作計畫 | B42: 724000 | I42: =SUM(B42:H42) -> 724000 | J42: =來源餘絀表!C42 -> 724000 | K42: =I42-J42 -> 0
...

Sheet 餘絀表(預算數)
A1: 將k及L值複製至O及P.
A2: 農 業 特 別 收 入 基 金
A3: 將b64值複製至上月份本期餘絀 | B3: 「累計實際」複製至「上月實際」
A5: 102.10.3
A6: 輸入本月數預算數
A7: 分基金名稱 會計科目 | B7: 農業發展 基 金 | C7: 漁業發展 基 金 | D7: 林務發展暨 造林基金 | E7: 漁產平準 基 金 | F7: 農業天然災 害救助基金 | G7: 農業受進口損害 基 金 | H7: 農村再生基金 | I7: 合 計
J8: 與來源餘絀表核對
A10: 基金來源 | B10: =B11+B14+B17+B19+B24+B26 -> 4073317000 | C10: =C11+C14+C17+C19+C24+C26 -> 15000 | D10: =D11+D14+D17+D19+D24+D26 -> 66059000 | E10: =E11+E14+E17+E19+E24+E26 -> 0 | F10: =F11+F14+F17+F19+F24+F26 -> 200000 | G10: =G11+G14+G17+G19+G24+G26 -> 500000000 | H10: =H11+H14+H17+H19+H24+H26 -> 1653000000 | I10: =SUM(B10:H10) -> 6292591000 | J10: =J11+J14+J17+J19+J24+J26 -> 6292591000 | K10: =J10-I10 -> 0
A11: 徵收收入 | B11: =B12+B13 -> 0 | C11: =C12 -> 0 | D11: =D12 -> 563000 | E11: =E12 -> 0 | F11: =F12 -> 0 | G11: =G12+G13 -> 0 | H11: =H12 -> 0 | I11: =SUM(B11:H11) -> 563000 | J11: =來源餘絀表!D11 -> 563000 | K11: =J11-I11 -> 0
A12: 違規罰款收入 | D12: 563000 | I12: =SUM(B12:H12) -> 563000 | J12: =來源餘絀表!D12 -> 563000 | K12: =J12-I12 -> 0
A13: 健康福利捐分配收入 | B13: 0 | I13: =SUM(B13:H13) -> 0 | J13: =來源餘絀表!D13 -> 0 | K13: =J13-I13 -> 0
A14: 勞務收入 | B14: =SUM(B15:B16) -> 0 | C14: =SUM(C15:C16) -> 0 | D14: =SUM(D15:D16) -> 56124000 | E14: =SUM(E15:E16) -> 0 | F14: =SUM(F15:F16) -> 0 | G14: =SUM(G15:G16) -> 0 | H14: =SUM(H15:H16) -> 0 | I14: =SUM(B14:H14) -> 56124000 | J14: =來源餘絀表!D14 -> 56124000 | K14: =J14-I14 -> 0
A15: 服務收入 | D15: 44078000 | I15: =SUM(B15:H15) -> 44078000 | J15: =來源餘絀表!D15 -> 44078000 | K15: =J15-I15 -> 0
A16: 其他勞務收入 | D16: 12046000 | I16: =SUM(B16:H16) -> 12046000 | J16: =來源餘絀表!D16 -> 12046000 | K16: =J16-I16 -> 0
A17: 農政收入 | B17: =B18 -> 276150000 | C17: =C18 -> 0 | D17: =D18 -> 0 | E17: =E18 -> 0 | F17: =F18 -> 0 | G17: =G18 -> 0 | H17: =H18 -> 0 | I17: =SUM(B17:H17) -> 276150000 | J17: =來源餘絀表!D17 -> 276150000 | K17: =J17-I17 -> 0
A18: 農林漁牧收入 | B18: 276150000 | I18: =SUM(B18:H18) -> 276150000 | J18: =來源餘絀表!D18 -> 276150000 | K18: =J18-I18 -> 0
A19: 財產收入 | B19: =SUM(B20:B23) -> 80000 | C19: =SUM(C20:C23) -> 15000 | D19: =SUM(D20:D23) -> 8838000 | E19: =SUM(E20:E23) -> 0 | F19: =SUM(F20:F23) -> 200000 | G19: =SUM(G20:G23) -> 0 | H19: =SUM(H20:H23) -> 0 | I19: =SUM(B19:H19) -> 9133000 | J19: =來源餘絀表!D19 -> 9133000 | K19: =J19-I19 -> 0
A20: 財產處分收入 | I20: =SUM(B20:H20) -> 0 | J20: =來源餘絀表!D20 -> 0 | K20: =J20-I20 -> 0
A21: 租金收入 | D21: 0 | I21: =SUM(B21:H21) -> 0 | J21: =來源餘絀表!D21 -> 0 | K21: =J21-I21 -> 0
A22: 權利金收入 | D22: 170000 | G22: 0 | I22: =SUM(B22:H22) -> 170000 | J22: =來源餘絀表!D22 -> 170000 | K22: =J22-I22 -> 0
A23: 利息收入 | B23: 80000 | C23: 15000 | D23: 8668000 | E23: 0 | F23: 200000 | I23: =SUM(B23:H23) -> 8963000 | J23: =來源餘絀表!D23 -> 8963000 | K23: =J23-I23 -> 0
A24: 政府撥入收入 | B24: =B25 -> 3797000000 | C24: =C25 -> 0 | D24: =D25 -> 0 | E24: =E25 -> 0 | F24: =F25 -> 0 | G24: =G25 -> 500000000 | H24: =H25 -> 1652000000 | I24: =SUM(B24:H24) -> 5949000000 | J24: =來源餘絀表!D24 -> 5949000000 | K24: =J24-I24 -> 0
A25: 國庫撥款收入 | B25: 3797000000 | F25: 0 | G25: 500000000 | H25: 1652000000 | I25: =SUM(B25:H25) -> 5949000000 | J25: =來源餘絀表!D25 -> 5949000000 | K25: =J25-I25 -> 0
A26: 其他收入 | B26: =SUM(B27:B28) -> 87000 | C26: =C27 -> 0 | D26: =D27 -> 534000 | E26: =E27 -> 0 | F26: =F27 -> 0 | G26: =G27 -> 0 | H26: =H27 -> 1000000 | I26: =SUM(B26:H26) -> 1621000 | J26: =來源餘絀表!D26 -> 1621000 | K26: =J26-I26 -> 0
A27: 雜項收入 | B27: 87000 | D27: 534000 | H27: 1000000 | I27: =SUM(B27:H27) -> 1621000 | J27: =來源餘絀表!D27 -> 1621000 | K27: =J27-I27 -> 0
A28: 收回金融業特別準備 | B28: 0 | I28: =SUM(B28:H28) -> 0 | J28: =來源餘絀表!D28 -> 0 | K28: =J28-I28 -> 0
A29: 基金用途 | B29: =B30+B33+B34+B37+B38+B39+B40+B41+B65+B42+B43+B44 -> 2528071000 | C29: =C51 -> 1141000 | D29: =D45+D46+D49+D54 -> 130924000 | E29: =E54+E65 -> 0 | F29: =F50 -> 0 | G29: =G55+G56+G57+G58 -> 210610000 | H29: =H59+H62 -> 497354000 | I29: =SUM(B29:H29) -> 3368100000 | J29: =J30+J33+J34+J37+J38+J39+J40+J41+J42+J43+J44+J45+J46+J49+J50+J51+J52+J53+J54+J55+J56+J57+J59+J62+J65+J74 -> 3368100000 | K29: =J29-I29 -> 0
A30: 農業研究、實驗、技術 改進計畫 | B30: =SUM(B31:B32) -> 1669000 | C30: =SUM(C31:C32) -> 0 | D30: =SUM(D31:D32) -> 0 | E30: =SUM(E31:E32) -> 0 | F30: =SUM(F31:F32) -> 0 | G30: =SUM(G31:G32) -> 0 | I30: =SUM(B30:H30) -> 1669000 | J30: =來源餘絀表!D30 -> 1669000 | K30: =J30-I30 -> 0
A31: 購建固定資產 | B31: 885000 | G31: 0 | I31: =SUM(B31:H31) -> 885000 | J31: =來源餘絀表!D31 -> 885000 | K31: =J31-I31 -> 0
A32: 其他 | B32: 784000 | I32: =SUM(B32:H32) -> 784000 | J32: =來源餘絀表!D32 -> 784000 | K32: =J32-I32 -> 0
A33: 農業貸款利息差額補貼 計畫 | B33: 1319120000 | I33: =SUM(B33:H33) -> 1319120000 | J33: =來源餘絀表!D33 -> 1319120000 | K33: =J33-I33 -> 0
A34: 糧政業務計畫 | B34: =SUM(B35:B36) -> 955666000 | C34: =SUM(C35:C36) -> 0 | D34: =SUM(D35:D36) -> 0 | E34: =SUM(E35:E36) -> 0 | F34: =SUM(F35:F36) -> 0 | G34: =SUM(G35:G36) -> 0 | I34: =SUM(B34:H34) -> 955666000 | J34: =來源餘絀表!D34 -> 955666000 | K34: =J34-I34 -> 0
A35: 購建固定資產 | B35: 60000 | I35: =SUM(B35:H35) -> 60000 | J35: =來源餘絀表!D35 -> 60000 | K35: =J35-I35 -> 0
A36: 其他 | B36: 955606000 | I36: =SUM(B36:H36) -> 955606000 | J36: =來源餘絀表!D36 -> 955606000 | K36: =J36-I36 -> 0
A37: 穩定肥料及相關資材供需計畫 | B37: 106000000 | I37: =SUM(B37:H37) -> 106000000 | J37: =來源餘絀表!D37 -> 106000000 | K37: =J37-I37 -> 0
A38: 產銷調節緊急處理計畫 | B38: 5000000 | I38: =SUM(B38:H38) -> 5000000 | J38: =來源餘絀表!D38 -> 5000000 | K38: =J38-I38 -> 0
A39: 農漁民子女就學獎助學 金補助計畫 | B39: 0 | I39: =SUM(B39:H39) -> 0 | J39: =來源餘絀表!D39 -> 0 | K39: =J39-I39 -> 0
A40: 豬隻死亡保險業務計畫 | B40: 85000000 | I40: =SUM(B40:H40) -> 85000000 | J40: =來源餘絀表!D40 -> 85000000 | K40: =J40-I40 -> 0
A41: 家禽流行性感冒防疫計畫 | B41: 5000000 | I41: =SUM(B41:H41) -> 5000000 | J41: =來源餘絀表!D41 -> 5000000 | K41: =J41-I41 -> 0
A42: 輔導菸農轉型與檳榔廢 園轉作計畫 | B42: 2000000 | I42: =SUM(B42:H42) -> 2000000 | J42: =來源餘絀表!D42 -> 2000000 | K42: =J42-I42 -> 0
...

Sheet 綜平
A1: 日期更新
A2: 農 業 特 別 收 入 基 金
A3: 平 衡 表
A4: 中 華 民 國 106年 6 月份
J5: 單位：新臺幣元
A6: 資 產 | D6: 金 額 | E6: ％ | F6: 負 債 及 基 金 餘 額 | I6: 金 額 | J6: ％
A7: 科 目 名 稱 | B7: 編 號 | C7: 檢查 號碼 | F7: 科 目 名 稱 | G7: 編 號 | H7: 檢查 號碼
A8: 資 產 | B8: 1 | C8: 0 | D8: =+D9+D46+D56 -> 9.2563305e+10 | E8: 100 | F8: 負 債 | G8: 2 | H8: 9 | I8: =I9+I26 -> 29590246364 | J8: =J9+J26 -> 31.98
A9: 一、流動資產 | B9: 11 | C9: 8 | D9: =+D10+D15+D17+D26+D36+D43 -> 6.9273015e+10 | E9: =+E10+E15+E17+E26+E36+E43 -> 74.84 | F9: 一、流動負債 | G9: 21 | H9: 7 | I9: =+I10+I12+I18 -> 7028723382 | J9: =+J10+J12+J18 -> 7.6 | K9: =J10+J12+J18 -> 7.6
A10: 1.現金 | B10: 111 | C10: 5 | D10: =SUM(D11:D14) -> 5.0054678e+10 | E10: =ROUND(D10/$D$8*100,2) -> 54.08 | F10: 1.短期債務 | G10: 211 | H10: 4 | I10: =+I11 -> 3034666348 | J10: =+J11 -> 3.28
A11: (1)庫存現金 | B11: 1111 | C11: 1 | D11: ='各－平衡表'!I11 -> 0 | E11: =ROUND(D11/$D$8*100,2) -> 0 | F11: (1)短期借款 | G11: 2112 | H11: 7 | I11: ='各－平衡表'!I82 -> 3034666348 | J11: =ROUND(I11/$I$65*100,2) -> 3.28
A12: (2)銀行存款 | B12: 1112 | C12: 8 | D12: ='各－平衡表'!I12 -> 5.0051935e+10 | E12: =ROUND(D12/$D$8*100,2) -> 54.07 | F12: 2.應付款項 | G12: 212 | H12: 1 | I12: =SUM(I13:I17) -> 3596958335 | J12: =SUM(J13:J17) -> 3.89
A13: (3)零用及週轉金 | B13: 1113 | C13: 4 | D13: ='各－平衡表'!I13 -> 2743980 | E13: =ROUND(D13/$D$8*100,2) -> 0 | F13: (1)應付帳款 | G13: 2122 | H13: 4 | I13: ='各－平衡表'!I84 -> 2458312675 | J13: =ROUND(I13/$I$65*100,2) -> 2.66
A14: (4)匯撥中現金 | B14: 1114 | C14: A | D14: ='各－平衡表'!I14 -> 0 | E14: =ROUND(D14/$D$8*100,2) -> 0 | F14: (2)應付代收款 | G14: 2123 | H14: A | I14: ='各－平衡表'!I85 -> 19018012 | J14: =ROUND(I14/$I$65*100,2) -> 0.02
A15: 2.短期投資 | B15: 112 | C15: 2 | D15: =D16 -> 1238065.9 | E15: =ROUND(D15/$D$8*100,2) -> 0 | F15: (3)應付費用 | G15: 2125 | H15: 3 | I15: ='各－平衡表'!I86 -> 6168856 | J15: =ROUND(I15/$I$65*100,2) -> 0.01
A16: (1)有價證券 | B16: 1122 | C16: 5 | D16: ='各－平衡表'!I16 -> 1238065.9 | E16: =ROUND(D16/$D$8*100,2) -> 0 | F16: (4)應付利息 | G16: 2127 | H16: 6 | I16: ='各－平衡表'!I87 -> 1104437000 | J16: =ROUND(I16/$I$65*100,2) -> 1.19
A17: 3.應收款項 | B17: 113 | C17: 0 | D17: =SUM(D18:D25) -> 156459269 | E17: =SUM(E18:E24) -> 0.18 | F17: (5)其他應付款 | G17: 212Y | H17: 1 | I17: ='各－平衡表'!I88 -> 9021792 | J17: =ROUND(I17/$I$65*100,2) -> 0.01
A18: (1)應收票據 | B18: 1131 | C18: 6 | D18: ='各－平衡表'!I18 -> 0 | E18: =ROUND(D18/$D$8*100,2) -> 0 | F18: 3.預收款項 | G18: 213 | H18: 9 | I18: =SUM(I19:I23) -> 397098699 | J18: =SUM(J19:J23) -> 0.43
A19: (2)應收帳款 | B19: 1133 | C19: 9 | D19: ='各－平衡表'!I19 -> 71165635 | E19: =ROUND(D19/$D$8*100,2) -> 0.08 | F19: (1)預收收入 | G19: 2133 | H19: 5 | I19: ='各－平衡表'!I90 -> 1659821 | J19: =ROUND(I19/$I$65*100,2) -> 0
A20: (3)備抵呆帳-應收帳款 | B20: 1134 | C20: 5 | D20: ='各－平衡表'!I20 -> -227476 | E20: =ROUND(D20/$D$8*100,2) -> 0 | F20: (2)預收定金 | G20: 2134 | H20: 4 | I20: ='各－平衡表'!I91 -> 7461129 | J20: =ROUND(I20/$I$65*100,2) -> 0.01
A21: (4)留抵稅額 | B21: 113D | C21: 9 | D21: ='各－平衡表'!I21 -> 0 | E21: =ROUND(D21/$D$8*100,2) -> 0 | F21: (3)預收貨款 | G21: 2131 | H21: 5 | I21: ='各－平衡表'!I92 -> 382489887 | J21: =ROUND(I21/$I$65*100,2) -> 0.41
A22: (5)應收收益 | B22: 1138 | C22: A | D22: ='各－平衡表'!I22 -> 0 | E22: =ROUND(D22/$D$8*100,2) -> 0 | F22: (4)銷項稅額 | G22: 2135 | H22: A | I22: ='各－平衡表'!I93 -> 0 | J22: =ROUND(I22/$I$65*100,2) -> 0
A23: (6)應收利息 | B23: 1139 | C23: 7 | D23: ='各－平衡表'!I23 -> 16138085 | E23: =ROUND(D23/$D$8*100,2) -> 0.02 | F23: (5)其他預收款 | G23: 213Y | H23: 1 | I23: ='各－平衡表'!I94 -> 5487862 | J23: =ROUND(I23/$I$65*100,2) -> 0.01
A24: (7)其他應收款 | B24: 113Y | C24: 0 | D24: ='各－平衡表'!I24 -> 71967080 | E24: =ROUND(D24/$D$8*100,2) -> 0.08
A25: (8)備抵呆帳-其他各項應收款 | B25: 113Z | C25: 5 | D25: ='各－平衡表'!I25 -> -2584055 | E25: =ROUND(D25/$D$8*100,2) -> 0
A26: 4.存貨 | B26: 114 | C26: 7 | D26: =SUM(D27:D35) -> 12460686976 | E26: =SUM(E27:E35) -> 13.45 | F26: 二、其他負債 | G26: 22 | H26: 5 | I26: =I27+I34 -> 22561522982 | J26: =J27+J34 -> 24.38
A27: (1)原 料 | B27: 0 | C27: 0 | D27: ='各－平衡表'!I27 -> 0 | E27: =ROUND(D27/$D$8*100,2) -> 0 | F27: 1.什項負債 | G27: 221 | H27: 2 | I27: =SUM(I28:I33) -> 692538823 | J27: =SUM(J28:J33) -> 0.75
A28: (2)物 料 | B28: 1141 | C28: 3 | D28: ='各－平衡表'!I28 -> 12055579 | E28: =ROUND(D28/$D$8*100,2) -> 0.01 | F28: (1)存入保證金 | G28: 2211 | H28: 9 | I28: ='各－平衡表'!I102 -> 306491654 | J28: =ROUND(I28/$I$65*100,2) -> 0.33
A29: (3)商品存貨 | B29: 1142 | C29: 5 | D29: ='各－平衡表'!I30 -> 1600494 | E29: =ROUND(D29/$D$8*100,2) -> 0 | F29: (2)應付保管款 | G29: 2212 | H29: 5 | I29: ='各－平衡表'!I103 -> 0 | J29: =ROUND(I29/$I$65*100,2) -> 0
A30: (4)在製品 | B30: 1143 | C30: 6 | D30: ='各－平衡表'!I32 -> 3034141 | E30: =ROUND(D30/$D$8*100,2) -> 0 | F30: (3)應付退休及離職金 | G30: 2213 | H30: 1 | I30: ='各－平衡表'!I104 -> 0 | J30: =ROUND(I30/$I$65*100,2) -> 0
A31: (5)製成品 | B31: 1144 | C31: 2 | D31: ='各－平衡表'!I33 -> 2131906 | E31: =ROUND(D31/$D$8*100,2) -> 0 | F31: (4)暫收及待結轉帳項 | G31: 2215 | H31: 4 | I31: ='各－平衡表'!I105 -> 69470576 | J31: =ROUND(I31/$I$65*100,2) -> 0.08
A32: (6)在植農作物 | B32: 114B | C32: 0 | D32: ='各－平衡表'!I34 -> 0 | E32: =ROUND(D32/$D$8*100,2) -> 0 | F32: (5)其他什項負債 | G32: 221Y | H32: 9 | I32: ='各－平衡表'!I106 -> 0 | J32: =ROUND(I32/$I$65*100,2) -> 0
A33: (7)農產品 | B33: 1147 | C33: 1 | D33: ='各－平衡表'!I35 -> 21524030561 | E33: =ROUND(D33/$D$8*100,2) -> 23.25 | F33: (6)應付代管資產 | G33: 2214 | H33: 8 | I33: ='各－平衡表'!I107 -> 316576593 | J33: =ROUND(I33/$I$65*100,2) -> 0.34
A34: (8)畜產品 | B34: 1149 | C34: 4 | D34: ='各－平衡表'!I36 -> 0 | E34: =ROUND(D34/$D$8*100,2) -> 0 | F34: 2.負債準備 | G34: 223 | I34: =I35 -> 21868984159 | J34: =ROUND(I34/$I$65*100,2) -> 23.63
A35: (9)備抵存貨跌價短絀 | B35: 114Z | C35: 6 | D35: ='各－平衡表'!I37 -> -9082165705 | E35: =ROUND(D35/$D$8*100,2) -> -9.81 | F35: (1)金融業特別準備 | G35: 2231 | I35: ='各－平衡表'!I109 -> 21868984159 | J35: =ROUND(I35/$I$65*100,2) -> 23.63 | K35: 來源餘絀表
A36: 5.預付款項 | B36: 115 | C36: 4 | D36: =SUM(D37:D42) -> 3562008517 | E36: =SUM(E37:E42) -> 3.85 | F36: 基 金 餘 額 | G36: 3 | H36: 8 | I36: =+I37 -> 6.2973058e+10 | J36: =+J37 -> 68.03 | K36: =來源餘絀表!G88 -> 6.2973058e+10
A37: (1)預付貨款 | B37: 1151 | C37: A | D37: ='各－平衡表'!I39 -> 2153932674 | E37: =ROUND(D37/$D$8*100,2) -> 2.33 | F37: 一、基金餘額 | G37: 31 | H37: 6 | I37: =I38 -> 6.2973058e+10 | J37: =ROUND(I37/$D$8*100,2) -> 68.03 | K37: =K36-I36 -> 0
A38: (2)用品盤存 | B38: 1153 | C38: 3 | D38: ='各－平衡表'!I40 -> 0 | E38: =ROUND(D38/$D$8*100,2) -> 0 | F38: 1.基金餘額 | G38: 311 | H38: 3 | I38: =I39+I40-I41 -> 6.2973058e+10 | J38: =ROUND(I38/$D$8*100,2) -> 68.03 | K38: 核對
A39: (3)預付費用 | B39: 1154 | C39: 0 | D39: ='各－平衡表'!I41 -> 1401016610 | E39: =ROUND(D39/$D$8*100,2) -> 1.51 | F39: (1)累積餘額 | G39: 3111 | H39: 0 | I39: ='各－平衡表'!I114 -> 5.6459958e+10 | J39: =ROUND(I39/$D$8*100,2) -> 61 | K39: 來源餘絀表
A40: (4)進項稅額 | B40: 1156 | C40: 2 | D40: ='各－平衡表'!I42 -> 0 | E40: =ROUND(D40/$D$8*100,2) -> 0 | F40: (2)本期賸餘 | G40: 3112 | H40: 6 | I40: ='各－平衡表'!I115 -> 6513100692 | J40: =ROUND(I40/$D$8*100,2) -> 7.04 | K40: =來源餘絀表!G85 -> 6513100692 | L40: ＊12月份平衡表本期賸餘及本期短絀應為0，
...

Sheet 各－平衡表
E1: 行 政 院 農 | F1: 業 委 員 會
E2: =綜平!A2 -> 農 業 特 別 收 入 基 金
A3: 自己登打 | E3: 平 | F3: 衡表
E4: =綜平!A4 -> 中 華 民 國 106年 6 月份
B5: ＊ | C5: ＊ | D5: ＊ | E5: ＊ | F5: ＊ | G5: ＊ | H5: ＊
A6: 分基金名稱 會計科目 | B6: 農業發展基金 | C6: 漁業發 展基金 | D6: 林務發展暨 造林基金 | E6: 漁產平 準基金 | F6: 農業天然災 害救助基金 | G6: 農業受進口損害 基 金 | H6: 農村再生基金 | I6: 合 計
A7: 資 產 | B7: =+B9+B49+B60 -> 4.3493505e+10 | C7: =+C9+C49+C60 -> 246633228 | D7: =+D9+D49+D60 -> 7530767090 | E7: =+E9+E49+E60 -> 0 | F7: =+F9+F49+F60 -> 667935495 | G7: =+G9+G49+G60 -> 4.0135008e+09 | H7: =+H9+H49+H60 -> 36610963079 | I7: =SUM(B7:H7) -> 9.2563305e+10
A9: 流動資產 | B9: =+B10+B15+B17+B26+B38+B45 -> 2.0700555e+10 | C9: =+C10+C15+C17+C26+C38+C45 -> 246633228 | D9: =+D10+D15+D17+D26+D38+D45 -> 7046901368 | E9: =+E10+E15+E17+E26+E38+E45 -> 0 | F9: =+F10+F15+F17+F26+F38+F45 -> 667935495 | G9: =+G10+G15+G17+G26+G38+G45 -> 4.0000277e+09 | H9: =+H10+H15+H17+H26+H38+H45 -> 36610963079 | I9: =SUM(B9:H9) -> 6.9273015e+10
A10: 現金 | B10: =SUM(B11:B14) -> 6.0184015e+09 | C10: =SUM(C11:C14) -> 227430589 | D10: =SUM(D11:D14) -> 6943585418 | E10: =SUM(E11:E14) -> 0 | F10: =SUM(F11:F14) -> 340044995 | G10: =SUM(G11:G14) -> 3.2071462e+09 | H10: =SUM(H11:H14) -> 33318069727 | I10: =SUM(B10:H10) -> 5.0054678e+10
A11: 庫存現金 | D11: 0 | I11: =SUM(B11:H11) -> 0
A12: 銀行存款 | B12: 6.0177515e+09 | C12: 227429609 | D12: 6941972418 | F12: 340044995 | G12: 3.2071462e+09 | H12: 33317589727 | I12: =SUM(B12:H12) -> 5.0051935e+10
A13: 零用及週轉金 | B13: 650000 | C13: 980 | D13: 1613000 | H13: 480000 | I13: =SUM(B13:H13) -> 2743980
A14: 匯撥中現金 | B14: 0 | I14: =SUM(B14:H14) -> 0
A15: 短期投資 | B15: =B16 -> 1238065.9 | C15: =C16 -> 0 | D15: =D16 -> 0 | E15: =E16 -> 0 | F15: =F16 -> 0 | G15: =G16 -> 0 | H15: =H16 -> 0 | I15: =SUM(B15:H15) -> 1238065.9
A16: 有價證券 | B16: 1238065.9 | I16: =SUM(B16:H16) -> 1238065.9
A17: 應收款項 | B17: =SUM(B18:B25) -> 51710935 | C17: =SUM(C18:C24) -> 19202639 | D17: =SUM(D18:D24) -> 85092699 | E17: =SUM(E18:E24) -> 0 | F17: =SUM(F18:F25) -> 27996 | G17: =SUM(G18:G24) -> 0 | H17: =SUM(H18:H24) -> 425000 | I17: =SUM(B17:H17) -> 156459269
A18: 應收票據 | I18: =SUM(B18:H18) -> 0
A19: 應收帳款 | B19: 16664799 | D19: 54500836 | I19: =SUM(B19:H19) -> 71165635
A20: 備抵呆帳-應收帳款(-) | B20: -227476 | I20: =SUM(B20:H20) -> -227476
A21: 留抵稅額 | I21: =SUM(B21:H21) -> 0
A22: 應收收益 | I22: =SUM(B22:H22) -> 0
A23: 應收利息 | B23: 3032027 | C23: 159754 | D23: 12946304 | H23: 0 | I23: =SUM(B23:H23) -> 16138085
A24: 其他應收款 | B24: 34825640 | C24: 19042885 | D24: 17645559 | F24: 27996 | H24: 425000 | I24: =SUM(B24:H24) -> 71967080
A25: 備抵呆帳-其他應收款(-) | B25: -2584055 | I25: =SUM(B25:H25) -> -2584055
A26: 存貨 | B26: =SUM(B27:B37) -> 12459086482 | C26: =SUM(C27:C37) -> 0 | D26: =SUM(D27:D37) -> 1600494 | E26: =SUM(E27:E37) -> 0 | F26: =SUM(F27:F37) -> 0 | G26: =SUM(G27:G37) -> 0 | H26: =SUM(H27:H37) -> 0 | I26: =SUM(B26:H26) -> 12460686976
A27: 原料 | I27: =SUM(B27:H27) -> 0
A28: 物料 | B28: 12055579 | I28: =SUM(B28:H28) -> 12055579
A29: 燃料 | I29: =SUM(B29:H29) -> 0
A30: 商品存貨 | D30: 1600494 | I30: =SUM(B30:H30) -> 1600494
A31: 副產品 | I31: =SUM(B31:H31) -> 0
A32: 在製品 | B32: 3034141 | I32: =SUM(B32:H32) -> 3034141
A33: 製成品 | B33: 2131906 | I33: =SUM(B33:H33) -> 2131906
A34: 在植農作物 | I34: =SUM(B34:H34) -> 0
A35: 農產品 | B35: 21524030561 | I35: =SUM(B35:H35) -> 21524030561
A36: 畜產品 | I36: =SUM(B36:H36) -> 0
A37: 減：備抵存貨跌價損失(-) | B37: -9082165705 | I37: =SUM(B37:H37) -> -9082165705
A38: 預付款項 | B38: =SUM(B39:B44) -> 2166871434 | C38: =SUM(C39:C44) -> 0 | D38: =SUM(D39:D44) -> 16622757 | E38: =SUM(E39:E44) -> 0 | F38: =SUM(F39:F44) -> 327862504 | G38: =SUM(G39:G44) -> 792849818 | H38: =SUM(H39:H44) -> 257802004 | I38: =SUM(B38:H38) -> 3562008517
A39: 預付貨款 | B39: 2153932674 | I39: =SUM(B39:H39) -> 2153932674
A40: 用品盤存 | B40: 0 | I40: =SUM(B40:H40) -> 0
A41: 預付費用 | B41: 12938760 | C41: 0 | D41: 10315829 | F41: 327862504 | G41: 792849818 | H41: 257049699 | I41: =SUM(B41:H41) -> 1401016610
...

Sheet 主要業務
A1: 將D及E值複製至L及M.將G及H值複製至J及K
A2: 農 業 特 別 收 入 基 金
A3: 主要業務計畫執行明細表
A4: =來源餘絀表!A4 -> 中 華 民 國 106年 6 月份
I5: 單位：新臺幣元 | J5: 2-12月才須複製(貼上「值」)，1月份不貼
A6: 業務計畫項目 | C6: 本月數及 | D6: 數 量 | G6: 金 額 | J6: 數 量 | L6: 金 額
A7: 名 稱 | B7: 單位 | C7: 累計數 | D7: 實際數 | E7: 預算數 | F7: 占預算數％ | G7: 實際數 | H7: 預算數 | I7: 增減(-)％ | J7: 實際數 | K7: 預算數 | L7: 實際數 | M7: 預算數
A8: 一.農業發展基金
A9: 1.收購糧食 | B9: 公斤 | C9: 本月數 | D9: 188229312 | E9: 74115000 | F9: =IF(E9=0,0,D9/E9*100) -> 253.97 | G9: 4345557621 | H9: 1718029000 | I9: =ROUND(IF(H9=0,0,(G9-H9)/H9*100),2) -> 152.94 | J9: 14959246 | K9: 28687000 | L9: 276311764 | M9: 596628000
C10: 累計數 | D10: =D9+J10 -> 223483038 | E10: =E9+K10 -> 108330000 | F10: =IF(E10=0,0,D10/E10*100) -> 206.3 | G10: =G9+L10 -> 4906303989 | H10: =H9+M10 -> 2421922000 | I10: =ROUND(IF(H10=0,0,(G10-H10)/H10*100),2) -> 102.58 | J10: 35253726 | K10: 34215000 | L10: 560746368 | M10: 703893000
A11: 2.農畜產品供銷－糧食 | B11: 公斤 | C11: 本月數 | D11: 23809778 | E11: 22015000 | F11: =IF(E11=0,0,D11/E11*100) -> 108.15 | G11: 727416752 | H11: 659484000 | I11: =ROUND(IF(H11=0,0,(G11-H11)/H11*100),2) -> 10.3 | J11: 22398906 | K11: 22015000 | L11: 702780718 | M11: 659484000
C12: 累計數 | D12: =D11+J12 -> 153487630 | E12: =E11+K12 -> 160553000 | F12: =IF(E12=0,0,D12/E12*100) -> 95.6 | G12: =G11+L12 -> 4712274714 | H12: =H11+M12 -> 4808172000 | I12: =ROUND(IF(H12=0,0,(G12-H12)/H12*100),2) -> -1.99 | J12: 129677852 | K12: 138538000 | L12: 3984857962 | M12: 4148688000
A13: 3.穩定肥料及相關資材供需計畫 | C13: 本月數 | G13: =來源餘絀表!C37 -> 907173 | H13: =來源餘絀表!D37 -> 106000000 | I13: =ROUND(IF(H13=0,0,(G13-H13)/H13*100),2) -> -99.14 | L13: 2007835 | M13: 100000000
C14: 累計數 | G14: =G13+L14 -> 26425716 | H14: =H13+M14 -> 610532000 | I14: =ROUND(IF(H14=0,0,(G14-H14)/H14*100),2) -> -95.67 | L14: 25518543 | M14: 504532000
A15: 4.產銷調節緊急處理計畫 | C15: 本月數 | G15: =來源餘絀表!C38 -> 80221514 | H15: =來源餘絀表!D38 -> 5000000 | I15: =ROUND(IF(H15=0,0,(G15-H15)/H15*100),2) -> 1504.43 | L15: 2025500 | M15: 5000000
C16: 累計數 | G16: =G15+L16 -> 151785514 | H16: =H15+M16 -> 90000000 | I16: =ROUND(IF(H16=0,0,(G16-H16)/H16*100),2) -> 68.65 | L16: 71564000 | M16: 85000000
A17: 5.農漁民子女就學獎助學金計畫 | C17: 本月數 | G17: =來源餘絀表!C39 -> 1860000 | H17: =來源餘絀表!D39 -> 0 | I17: =ROUND(IF(H17=0,0,(G17-H17)/H17*100),2) -> 0 | L17: 509640547 | M17: 549468000
C18: 累計數 | G18: =G17+L18 -> 514095547 | H18: =H17+M18 -> 550544000 | I18: =ROUND(IF(H18=0,0,(G18-H18)/H18*100),2) -> -6.62 | L18: 512235547 | M18: 550544000
A19: 6.豬隻死亡保險業務計畫 | C19: 本月數 | G19: =來源餘絀表!C40 -> 110000000 | H19: =來源餘絀表!D40 -> 85000000 | I19: =ROUND(IF(H19=0,0,(G19-H19)/H19*100),2) -> 29.41 | L19: 0 | M19: 5500000
C20: 累計數 | G20: =G19+L20 -> 140000000 | H20: =H19+M20 -> 109600000 | I20: =ROUND(IF(H20=0,0,(G20-H20)/H20*100),2) -> 27.74 | L20: 30000000 | M20: 24600000
A21: 7.家禽流行性感冒防疫計畫 | C21: 本月數 | G21: =來源餘絀表!C41 -> 10567000 | H21: =來源餘絀表!D41 -> 5000000 | I21: =ROUND(IF(H21=0,0,(G21-H21)/H21*100),2) -> 111.34 | L21: 15383000 | M21: 2021000
C22: 累計數 | G22: =G21+L22 -> 86069000 | H22: =H21+M22 -> 57021000 | I22: =ROUND(IF(H22=0,0,(G22-H22)/H22*100),2) -> 50.94 | L22: 75502000 | M22: 52021000
A23: 8.農業貸款利息差額補貼計畫 | C23: 本月數 | G23: =來源餘絀表!C33 -> 964611075 | H23: =來源餘絀表!D33 -> 1319120000 | I23: =ROUND(IF(H23=0,0,(G23-H23)/H23*100),2) -> -26.87 | L23: 0 | M23: 0
C24: 累計數 | G24: =G23+L24 -> 964611075 | H24: =H23+M24 -> 1319120000 | I24: =ROUND(IF(H24=0,0,(G24-H24)/H24*100),2) -> -26.87 | L24: 0 | M24: 0
A25: 9.輔導菸農轉型與檳榔廢園轉作計畫 | C25: 本月數 | G25: =來源餘絀表!C42 -> 724000 | H25: =來源餘絀表!D42 -> 2000000 | I25: =ROUND(IF(H25=0,0,(G25-H25)/H25*100),2) -> -63.8 | L25: 0 | M25: 2000000
C26: 累計數 | G26: =G25+L26 -> 9170795 | H26: =H25+M26 -> 9500000 | I26: =ROUND(IF(H26=0,0,(G26-H26)/H26*100),2) -> -3.47 | L26: 8446795 | M26: 7500000
A27: 10.處理農會漁會信用部計畫 | C27: 本月數 | G27: =來源餘絀表!C43 -> 0 | H27: =來源餘絀表!D43 -> 48616000 | I27: =ROUND(IF(H27=0,0,(G27-H27)/H27*100),2) -> -100 | L27: 14000 | M27: 0
C28: 累計數 | G28: =G27+L28 -> 14000 | H28: =H27+M28 -> 48616000 | I28: =ROUND(IF(H28=0,0,(G28-H28)/H28*100),2) -> -99.97 | L28: 14000 | M28: 0
A29: 11.離農獎勵計畫 | C29: 本月數 | G29: =來源餘絀表!C44 -> 7804985 | H29: =來源餘絀表!D44 -> 0 | I29: =ROUND(IF(H29=0,0,(G29-H29)/H29*100),2) -> 0 | L29: 250326 | M29: 0
C30: 累計數 | G30: =G29+L30 -> 23830774 | H30: =H29+M30 -> 0 | I30: =ROUND(IF(H30=0,0,(G30-H30)/H30*100),2) -> 0 | L30: 16025789 | M30: 0
A31: 二.林務發展及造林基金
A32: 1.全民造林計畫 | C32: 本月數 | G32: =來源餘絀表!C45 -> 18852270 | H32: =來源餘絀表!D45 -> 28336000 | I32: =ROUND(IF(H32=0,0,(G32-H32)/H32*100),2) -> -33.47 | L32: 17405150 | M32: 35816000
C33: 累計數 | G33: =G32+L33 -> 84836870 | H33: =H32+M33 -> 115337000 | I33: =ROUND(IF(H33=0,0,(G33-H33)/H33*100),2) -> -26.44 | L33: 65984600 | M33: 87001000
A34: 2.森林遊樂區服務 | B34: 人次 | C34: 本月數 | D34: 216233 | E34: 288144 | F34: =IF(E34=0,0,D34/E34*100) -> 75.04 | G34: 56957377 | H34: 37646000 | I34: =ROUND(IF(H34=0,0,(G34-H34)/H34*100),2) -> 51.3 | J34: 384057 | K34: 307878 | L34: 41584551 | M34: 42443000
C35: 累計數 | D35: =D34+J35 -> 1762812 | E35: =E34+K35 -> 2365419 | F35: =IF(E35=0,0,D35/E35*100) -> 74.52 | G35: =G34+L35 -> 211951511 | H35: =H34+M35 -> 174072000 | I35: =ROUND(IF(H35=0,0,(G35-H35)/H35*100),2) -> 21.76 | J35: 1546579 | K35: 2077275 | L35: 154994134 | M35: 136426000
A36: 3.森林鐵路運輸 | B36: 延人 | C36: 本月數 | D36: 743662 | E36: 577686 | F36: =IF(E36=0,0,D36/E36*100) -> 128.73 | G36: 27193630 | H36: 40229000 | I36: =ROUND(IF(H36=0,0,(G36-H36)/H36*100),2) -> -32.4 | J36: 852611 | K36: 577686 | L36: 10876185 | M36: 37214000
B37: 公里 | C37: 累計數 | D37: =D36+J37 -> 4359826 | E37: =E36+K37 -> 3466116 | F37: =IF(E37=0,0,D37/E37*100) -> 125.78 | G37: =G36+L37 -> 136317598 | H37: =H36+M37 -> 203405000 | I37: =ROUND(IF(H37=0,0,(G37-H37)/H37*100),2) -> -32.98 | J37: 3616164 | K37: 2888430 | L37: 109123968 | M37: 163176000
A38: 4.森林台車運輸 | B38: 人次 | C38: 本月數 | D38: 0 | E38: 15000 | F38: =IF(E38=0,0,D38/E38*100) -> 0 | G38: 9387613 | H38: 5773000 | I38: =ROUND(IF(H38=0,0,(G38-H38)/H38*100),2) -> 62.61 | J38: 0 | K38: 0 | L38: 567832 | M38: 6818000
C39: 累計數 | D39: =D38+J39 -> 0 | E39: =E38+K39 -> 15000 | F39: =IF(E39=0,0,D39/E39*100) -> 0 | G39: =G38+L39 -> 23914303 | H39: =H38+M39 -> 39564000 | I39: =ROUND(IF(H39=0,0,(G39-H39)/H39*100),2) -> -39.56 | J39: 0 | K39: 0 | L39: 14526690 | M39: 33791000
A40: 5.獎勵輔導造林計畫 | C40: 本月數 | G40: =來源餘絀表!C49 -> 10249124 | H40: =來源餘絀表!D49 -> 15440000 | I40: =ROUND(IF(H40=0,0,(G40-H40)/H40*100),2) -> -33.62 | L40: 17116818 | M40: 16097000
...

Sheet 固定項目-折舊
A1: 農 業 特 別 收 入 基 金
A2: 固定項目表
A3: =來源餘絀表!A4 -> 中 華 民 國 106年 6 月份
G4: 單位：新臺幣元
A5: 項 目 | B5: 取得成本/ 舉債數 | C5: 以前年度累計折舊（耗）/長期投資評價/未攤銷溢（折）價 | D5: 本年度變動 | F5: 本年度提列折舊（耗）/長期投資評價變動數/攤銷數 | G5: 期末餘額
D6: 增加數 | E6: 減少數
A7: 資產 | B7: =+B9+B12+B16+B21+B27+B32+B38+B43 -> 17473526668 | C7: =+C9+C12+C16+C21+C27+C32+C38+C43 -> 5872418704 | D7: =+D9+D12+D16+D21+D27+D32+D38+D43 -> 188468225 | E7: =+E9+E12+E16+E21+E27+E32+E38+E43 -> 52049477 | F7: =+F9+F12+F16+F21+F27+F32+F38+F43 -> 427221387 | G7: =+G9+G12+G16+G21+G27+G32+G38+G43 -> 11310305325
A8: 非理財目的之長期投資 | B8: 0
A9: 土地 | B9: =+B10+B11 -> 34396608 | C9: =+C10+C11 -> 0 | D9: =+D10+D11 -> 0 | E9: =+E10+E11 -> 0 | F9: =+F10+F11 -> 0 | G9: =+G10+G11 -> 34396608
A10: 林務 | B10: 26143128 | C10: 0 | G10: =+B10-C10+D10-E10-F10 -> 26143128
A11: 再生 | B11: 8253480 | G11: =+B11-C11+D11-E11-F11 -> 8253480
A12: 土地改良物 | B12: =+B13+B14+B15 -> 14501621130 | C12: =+C13+C14+C15 -> 4655471686 | D12: =+D13+D14+D15 -> 25700136 | E12: =+E13+E14+E15 -> 0 | F12: =+F13+F14+F15 -> 400072863 | G12: =+G13+G14+G15 -> 9471776717
A13: 林務 | B13: 2223678009 | C13: 1310338281 | D13: 25700136 | E13: 0 | F13: 55212363 | G13: =+B13-C13+D13-E13-F13 -> 883827501
A14: 再生 | B14: 12277212847 | C14: 3345017730 | D14: 0 | E14: 0 | F14: 344846040 | G14: =+B14-C14+D14-E14-F14 -> 8587349077
A15: 農發 | B15: 730274 | C15: 115675 | F15: 14460 | G15: =+B15-C15+D15-E15-F15 -> 600139
A16: 房屋及建築 | B16: =+B17+B18+B19+B20 -> 631013844 | C16: =+C17+C18+C19+C20 -> 356974910 | D16: =+D17+D18+D19+D20 -> 3087608 | E16: =+E17+E18+E19+E20 -> 0 | F16: =+F17+F18+F19+F20 -> 9681315 | G16: =+G17+G18+G19+G20 -> 267445227
A17: 農發 | B17: 89102244 | C17: 10291316 | F17: 735132 | G17: =+B17-C17+D17-E17-F17 -> 78075796
A18: 農損 | B18: 46811149 | C18: 7809621 | F18: 514926 | G18: =+B18-C18+D18-E18-F18 -> 38486602
A19: 再生 | B19: 7686333 | C19: 2092662 | F19: 63414 | G19: =+B19-C19+D19-E19-F19 -> 5530257
A20: 林務 | B20: 487414118 | C20: 336781311 | D20: 3087608 | E20: 0 | F20: 8367843 | G20: =+B20-C20+D20-E20-F20 -> 145352572
A21: 機械及設備 | B21: =+B22+B23+B24+B25+B26 -> 418289618 | C21: =+C22+C23+C24+C25+C26 -> 332609254 | D21: =+D22+D23+D24+D25+D26 -> 3626259 | E21: =+E22+E23+E24+E25+E26 -> 6160248 | F21: =+F22+F23+F24+F25+F26 -> 7474885 | G21: =+G22+G23+G24+G25+G26 -> 75671490
A22: 農發 | B22: 187859270 | C22: 163573963 | D22: 843000 | E22: 3557847 | F22: 246336 | G22: =+B22-C22+D22-E22-F22 -> 21324124
A23: 農損 | B23: 80162796 | C23: 77913594 | F23: 748835 | G23: =+B23-C23+D23-E23-F23 -> 1500367
A24: 漁發 | B24: 26077427 | C24: 25816624 | E24: 253233 | F24: -250701 | G24: =+B24-C24+D24-E24-F24 -> 258271
A25: 林務 | B25: 70747888 | C25: 33436070 | D25: 120603 | E25: 245592 | F25: 3169799 | G25: =+B25-C25+D25-E25-F25 -> 34017030
A26: 再生 | B26: 53442237 | C26: 31869003 | D26: 2662656 | E26: 2103576 | F26: 3560616 | G26: =+B26-C26+D26-E26-F26 -> 18571698
A27: 交通及運輸設備 | B27: =+B28+B29+B30+B31 -> 901401609 | C27: =+C28+C29+C30+C31 -> 483297127 | D27: =+D28+D29+D30+D31 -> 7373254 | E27: =+E28+E29+E30+E31 -> 12432397 | F27: =+F28+F29+F30+F31 -> 6840275 | G27: =+G28+G29+G30+G31 -> 406205064
A28: 農發 | B28: 7934401 | C28: 6950650 | D28: 90300 | E28: 62542 | F28: 229233 | G28: =+B28-C28+D28-E28-F28 -> 782276
A29: 農損 | B29: 75320 | C29: 74567 | G29: =+B29-C29+D29-E29-F29 -> 753
A30: 林務 | B30: 860995618 | C30: 460183713 | D30: 1987408 | E30: 7302160 | F30: 5220341 | G30: =+B30-C30+D30-E30-F30 -> 390276812
A31: 再生 | B31: 32396270 | C31: 16088197 | D31: 5295546 | E31: 5067695 | F31: 1390701 | G31: =+B31-C31+D31-E31-F31 -> 15145223
A32: 雜項設備 | B32: =+B33+B34+B35+B36+B37 -> 70821773 | C32: =+C33+C34+C35+C36+C37 -> 44065727 | D32: =+D33+D34+D35+D36+D37 -> 2715667 | E32: =+E33+E34+E35+E36+E37 -> 1116146 | F32: =+F33+F34+F35+F36+F37 -> 3152049 | G32: =+G33+G34+G35+G36+G37 -> 25203518
A33: 農發 | B33: 12946903 | C33: 9632488 | D33: 439643 | E33: 414240 | F33: 44734 | G33: =+B33-C33+D33-E33-F33 -> 3295084
A34: 農損 | B34: 2257755 | C34: 2177043 | F34: 10980 | G34: =+B34-C34+D34-E34-F34 -> 69732
A35: 漁發 | G35: =+B35-C35+D35-E35-F35 -> 0
A36: 林務 | B36: 40851185 | C36: 21644207 | D36: 1376422 | E36: 381389 | F36: 2279407 | G36: =+B36-C36+D36-E36-F36 -> 17922604
A37: 再生 | B37: 14765930 | C37: 10611989 | D37: 899602 | E37: 320517 | F37: 816928 | G37: =+B37-C37+D37-E37-F37 -> 3916098
A38: 購建中固定資產 | B38: =+B39+B40+B41+B42 -> 909098894 | C38: =+C39+C40+C41+C42 -> 0 | D38: =+D39+D40+D41+D42 -> 145965301 | E38: =+E39+E40+E41+E42 -> 31648860 | F38: =+F39+F40+F41+F42 -> 0 | G38: =+G39+G40+G41+G42 -> 1023415335
A39: 農損 | G39: =+B39-C39+D39-E39-F39 -> 0
A40: 農發 | G40: =+B40-C40+D40-E40-F40 -> 0
...

Sheet 購建固定資產
B1: 農 業 特 別 收 入 基 金
B2: 購建固定資產執行情形明細表
B3: =來源餘絀表!A4 -> 中 華 民 國 106年 6 月份
R4: 單位:新臺幣元
C5: 本 年 度 | I5: 執 行 情 形 | P5: 結餘款
C6: 可 用 預 算 數 | H6: 累計預算 | I6: 實 際 執 行 數 | M6: 比 較 增 減 （-） | Q6: 差 異 或 落 後 原 因
B7: 計 畫 名 稱 | C7: 以 前 | D7: 本 年 度 | E7: 本年度 | F7: 調整數 | H7: 分 配 數 | J7: 應付未付數 | O7: 契 約 | R7: 改進措施
C8: 年 度 | D8: 法 定 | E8: 奉准先行 | G8: 合 計 | I8: 實支數 | K8: 合 計 | L8: ％ | M8: 金 額 | N8: ％ | O8: 責任數
C9: 保留數 | D9: 預 算 數 | E9: 辦理數 | G9: (1) | H9: (2) | K9: (3) | L9: (3)/(2) | M9: (4)=(3)-(2) | N9: (4)/(2)
B10: 土地 | D10: =+D11 -> 1000000 | G10: =+G11 -> 1000000 | H10: =+H11 -> 0 | I10: =+I11 -> 0 | K10: =+K11 -> 0 | M10: =K10-H10 -> 0 | N10: =IF(H10=0,0,(M10/H10)*100)*-1 -> 0
B11: 土地 | D11: 1000000 | G11: =SUM(C11:D11) -> 1000000 | K11: =SUM(I11:J11) -> 0 | L11: =IF(H11=0,0,(I11/H11)*100) -> 0 | M11: =K11-H11 -> 0 | N11: =IF(H11=0,0,(M11/H11)*100)*-1 -> 0
B12: 購建中固定資產 | M12: =I12-H12 -> 0 | N12: =IF(H12=0,0,(M12/H12)*100)*-1 -> 0
B14: 土地改良物 | C14: =C15+C19 -> 1346993956 | D14: =D15+D19 -> 1032103000 | E14: =E15+E19 -> 0 | F14: =F15+F19 -> 0 | G14: =G15+G19 -> 2379096956 | H14: =H15+H19 -> 1436858000 | I14: =I15+I19 -> 760912362 | J14: =J15 -> 0 | K14: =SUM(I14:J14) -> 760912362 | L14: =IF(H14=0,0,(K14/H14)*100) -> 52.96 | M14: =K14-H14 -> -675945638 | N14: =IF(H14=0,0,(M14/H14)*100)*-1 -> 47.04 | O14: =O15+O19 -> 0 | P14: =P15+P19 -> 0 | Q14: 農村再生基金：106年度本項計畫業於106年2月7日、3月20日、4月24及5月22日陸續完成4次總平台審查，累計審查通過7.48億元並核定在案，多數案件刻正辦理測設發包作業，暫未有經費實支情形。 林務發展及造林基金：1.阿里山森林鐵路屏遮那至二萬坪上下邊坡整治因辦理變更，致執行落後。 2.臺鐵局代辦阿里山森林鐵路修理工廠設備改善及空氣汙染防制設備新設工程-設備及排水改善工程因變更設計，刻正辦理驗收中，致執行落後。 3.雙流濱溪休憩設施及景觀工程第一期因廠商部分工項未同時進行施作，致執行落後。 | R14: 農村再生基金：要求各執行單位於工程核定後3個月內完成工程細部設計及上網發包等工作。 林務發展及造林基金：積極辦理。 | T14: =H14-K14-O14-P14 -> 675945638
B15: 土地改良物 | C15: =SUM(C16:C18) -> 1346993956 | D15: =SUM(D16:D18) -> 1032103000 | E15: =SUM(E16:E18) -> 0 | F15: =SUM(F16:F18) -> 0 | G15: =SUM(C15:F15) -> 2379096956 | H15: =SUM(H16:H18) -> 1436858000 | I15: =SUM(I16:I18) -> 0 | J15: =SUM(J16:J18) -> 0 | K15: =SUM(I15:J15) -> 0 | L15: =IF(H15=0,0,(K15/H15)*100) -> 0 | M15: =K15-H15 -> -1436858000 | N15: =IF(H15=0,0,(M15/H15)*100)*-1 -> 100 | O15: =SUM(O16:O18) -> 0 | P15: =SUM(P16:P18) -> 0 | T15: =H15-K15-O15-P15 -> 1436858000
B16: 林務 | C16: 120259439 | D16: 182103000 | G16: =SUM(C16:F16) -> 302362439 | H16: 134800000 | K16: =SUM(I16:J16) -> 0 | L16: =IF(F16=0,0,(K16/F16)*100)*-1 -> 0 | M16: =K16-H16 -> -134800000 | N16: =IF(H16=0,0,(M16/H16)*100)*-1 -> 100 | T16: =H16-K16-O16-P16 -> 134800000
B17: 再生 | C17: 1226734517 | D17: 850000000 | G17: =SUM(C17:F17) -> 2076734517 | H17: 1302058000 | I17: 0 | K17: =I17+J17 -> 0 | M17: =K17-H17 -> -1302058000 | N17: =IF(H17=0,0,(M17/H17)*100)*-1 -> 100 | O17: 0 | T17: =H17-K17-O17-P17 -> 1302058000
B18: 農發 | D18: 0 | G18: =SUM(C18:F18) -> 0 | K18: =I18+J18 -> 0 | M18: =K18-H18 -> 0 | N18: =IF(H18=0,0,(M18/H18)*100)*-1 -> 0 | T18: =H18-K18-O18-P18 -> 0
B19: 購建中固定資產 | C19: =SUM(C20:C21) -> 0 | D19: =SUM(D20:D21) -> 0 | E19: =SUM(E20:E21) -> 0 | F19: =SUM(F20:F21) -> 0 | G19: =SUM(G20:G21) -> 0 | H19: =SUM(H20:H21) -> 0 | I19: =SUM(I20:I21) -> 760912362 | J19: =SUM(J20:J21) -> 0 | K19: =SUM(K20:K21) -> 760912362 | L19: =IF(H19=0,0,(K19/H19)*100) -> 0 | M19: =SUM(M20:M21) -> 760912362 | N19: =IF(H19=0,0,(M19/H19)*100)*-1 -> 0 | O19: =SUM(O20:O21) -> 0 | P19: =SUM(P20:P21) -> 0 | T19: =H19-K19-O19-P19 -> -760912362
B20: 再生 | G20: =SUM(C20:F20) -> 0 | I20: 680706133 | K20: =I20+J20 -> 680706133 | M20: =K20-H20 -> 680706133 | N20: =IF(H20=0,0,(M20/H20)*100)*-1 -> 0 | T20: =H20-K20-O20-P20 -> -680706133
B21: 林務 | G21: =SUM(C21:F21) -> 0 | I21: 80206229 | K21: =SUM(I21:J21) -> 80206229 | L21: =IF(F21=0,0,(K21/F21)*100)*-1 -> 0 | M21: =K21-H21 -> 80206229 | N21: =IF(H21=0,0,(M21/H21)*100)*-1 -> 0 | T21: =H21-K21-O21-P21 -> -80206229
B22: 房屋及建築 | C22: =C23 -> 27799169 | D22: =D23 -> 49480000 | E22: =E23 -> 0 | F22: =F23 -> 0 | G22: =SUM(C22:F22) -> 77279169 | H22: =H23+H28 -> 41430000 | I22: =I23+I28 -> 35467883 | J22: =SUM(J23:J28) -> 0 | K22: =K23+K28 -> 35467883 | L22: =IF(H22=0,0,(K22/H22)*100) -> 85.61 | M22: =K22-H22 -> -5962117 | N22: =IF(H22=0,0,(M22/H22)*100)*-1 -> 14.39 | O22: =O23+O28 -> 0 | P22: =P23+P28 -> 0 | Q22: 林務發展及造林基金：1.臺鐵局協助營運辦理之阿里山森林鐵路竹崎工區屋舍整修工程因變更契約 ，致執行落後。 2.滿月圓遊客中心解說設施設置工程因廠商設計延遲，致執行落後。 3.烏來台車人口意象、樓梯及林業生活館外牆防水改善工程因變更設計，致執行落後。 | R22: 林務發展及造林基金：積極辦理。 | T22: =H22-K22-O22-P22 -> 5962117
B23: 房屋及建築 | C23: =SUM(C24:C27) -> 27799169 | D23: =SUM(D24:D27) -> 49480000 | E23: =SUM(E24:E27) -> 0 | F23: =SUM(F24:F27) -> 0 | G23: =SUM(G24:G27) -> 77279169 | H23: =SUM(H24:H27) -> 41430000 | I23: =SUM(I24:I27) -> 0 | J23: =SUM(J24:J27) -> 0 | K23: =SUM(K24:K27) -> 0 | L23: =IF(H23=0,0,(K23/H23)*100) -> 0 | M23: =SUM(M24:M27) -> -41430000 | N23: =IF(H23=0,0,(M23/H23)*100)*-1 -> 100 | O23: =SUM(O24:O27) -> 0 | P23: =SUM(P24:P27) -> 0 | T23: =H23-K23-O23-P23 -> 41430000
B24: 農發 | G24: =SUM(C24:F24) -> 0 | K24: =SUM(I24:J24) -> 0 | L24: =IF(H24=0,0,(I24/H24)*100) -> 0 | M24: =I24-H24 -> 0 | N24: =IF(H24=0,0,(M24/H24)*100)*-1 -> 0 | O24: 0 | P24: 0 | T24: =H24-K24-O24-P24 -> 0
B25: 農損 | G25: =SUM(C25:F25) -> 0 | K25: =SUM(I25:J25) -> 0 | L25: =IF(H25=0,0,(I25/H25)*100) -> 0 | M25: =I25-H25 -> 0 | N25: =IF(H25=0,0,(M25/H25)*100)*-1 -> 0 | O25: 0 | P25: 0 | T25: =H25-K25-O25-P25 -> 0
B26: 林務 | C26: 27799169 | D26: 49480000 | G26: =SUM(C26:F26) -> 77279169 | H26: 41430000 | I26: 0 | K26: =SUM(I26:J26) -> 0 | L26: =IF(H26=0,0,(I26/H26)*100) -> 0 | M26: =K26-H26 -> -41430000 | N26: =IF(H26=0,0,(M26/H26)*100)*-1 -> 100 | P26: 0 | T26: =H26-K26-O26-P26 -> 41430000
B27: 再生 | G27: =SUM(C27:F27) -> 0 | I27: 0 | K27: =SUM(I27:J27) -> 0 | L27: =IF(H27=0,0,(I27/H27)*100) -> 0 | M27: =K27-H27 -> 0 | N27: =IF(H27=0,0,(M27/H27)*100)*-1 -> 0 | O27: 0 | T27: =H27-K27-O27-P27 -> 0
B28: 購建中固定資產 | C28: =SUM(C29:C31) -> 0 | D28: =SUM(D29:D31) -> 0 | E28: =SUM(E29:E31) -> 0 | F28: =SUM(F29:F31) -> 0 | G28: =SUM(G29:G31) -> 0 | H28: =SUM(H29:H31) -> 0 | I28: =I31 -> 35467883 | J28: =SUM(J29:J31) -> 0 | K28: =SUM(I28:J28) -> 35467883 | L28: =IF(H28=0,0,(K28/H28)*100) -> 0 | M28: =K28-H28 -> 35467883 | N28: =IF(H28=0,0,(M28/H28)*100)*-1 -> 0 | O28: =SUM(O29:O31) -> 0 | P28: =SUM(P29:P31) -> 0 | T28: =H28-K28-O28-P28 -> -35467883
B29: 農發 | K29: =SUM(I29:J29) -> 0 | L29: =IF(H29=0,0,(K29/H29)*100) -> 0 | M29: =K29-H29 -> 0 | N29: =IF(H29=0,0,(M29/H29)*100)*-1 -> 0 | P29: 0 | T29: =H29-K29-O29-P29 -> 0
B30: 農損 | K30: 0 | M30: =K30-H30 -> 0 | T30: =H30-K30-O30-P30 -> 0
B31: 林務 | I31: 35467883 | K31: =SUM(I31:J31) -> 35467883 | M31: =K31-H31 -> 35467883 | T31: =H31-K31-O31-P31 -> -35467883
T32: =H32-K32-O32-P32 -> 0
B33: 機械及設備 | C33: =C34 -> 21181245 | D33: =D34 -> 53791000 | E33: =E34 -> 0 | F33: =F34 -> 0 | G33: =G34 -> 74972245 | H33: =+H34+H40 -> 30396000 | I33: =+I34+I40 -> 7609607 | J33: =+J34 -> 0 | K33: =SUM(I33:J33) -> 7609607 | L33: =IF(H33=0,0,(K33/H33)*100) -> 25.03 | M33: =K33-H33 -> -22786393 | N33: =IF(H33=0,0,(M33/H33)*100)*-1 -> 74.97 | O33: =+O34 -> 0 | P33: =+P34 -> 0 | Q33: 林務發展及造林基金：係臺鐵局代辦阿里山森林鐵路修理工廠設備改善及空氣汙染防制設備新設工程-阿里山車庫油槽工程廠商確認不需申請水保修改規格，刻正辦理驗收程序中，致執行落後。 農村再生基金：年度業務採購已積極規劃辦理中。 | R33: 林務發展及造林基金：積極辦理。 農村再生基金：年度業務採購已積極規劃辦理中。 | T33: =H33-K33-O33-P33 -> 22786393
B34: 機械及設備 | C34: =SUM(C35:C38) -> 21181245 | D34: =SUM(D35:D38) -> 53791000 | E34: =SUM(E35:E38) -> 0 | F34: =SUM(F35:F38) -> 0 | G34: =SUM(G35:G38) -> 74972245 | H34: =SUM(H35:H38) -> 30396000 | I34: =SUM(I35:I38) -> 1361359 | J34: =SUM(J35:J38) -> 0 | K34: =SUM(I34:J34) -> 1361359 | L34: =IF(H34=0,0,(K34/H34)*100) -> 4.48 | M34: =K34-H34 -> -29034641 | N34: =IF(H34=0,0,(M34/H34)*100)*-1 -> 95.52 | O34: =SUM(O35:O38) -> 0 | P34: =SUM(P35:P38) -> 0 | T34: =H34-K34-O34-P34 -> 29034641
B35: 再生 | D35: 27838000 | F35: 0 | G35: =SUM(C35:F35) -> 27838000 | H35: 14417000 | I35: 537756 | K35: =SUM(I35:J35) -> 537756 | L35: =IF(H35=0,0,(K35/H35)*100) -> 3.73 | M35: =K35-H35 -> -13879244 | N35: =IF(H35=0,0,(M35/H35)*100)*-1 -> 96.27 | O35: 0 | P35: 0 | T35: =H35-K35-O35-P35 -> 13879244
